Workbook
Name dre: #REF!
Name dre: #REF!
Name dre: #REF!
Name dre: #REF!
Name dre: #REF!
Name dre: #REF!
Name dre: #REF!
Name dre: #REF!
Name dre: #REF!
Name dre: #REF!
Name dren: #REF!
Name dren: #REF!
Name dren: #REF!
Name dren: #REF!
Name dren: #REF!
Name dren: #REF!
Name dren: #REF!
Name dren: #REF!
Name dren: #REF!
Name dren: #REF!
Name Excel_BuiltIn__FilterDatabase_1: #REF!
Name Excel_BuiltIn__FilterDatabase_1: #REF!
Name Excel_BuiltIn__FilterDatabase_1: #REF!
Name Excel_BuiltIn__FilterDatabase_1: #REF!
Name Excel_BuiltIn__FilterDatabase_1: #REF!
Name Excel_BuiltIn__FilterDatabase_1: #REF!
Name Excel_BuiltIn__FilterDatabase_1: #REF!
Name Excel_BuiltIn__FilterDatabase_1: #REF!
Name Excel_BuiltIn__FilterDatabase_1: #REF!
Name Excel_BuiltIn__FilterDatabase_1: #REF!
Name Excel_BuiltIn__FilterDatabase_2: #REF!
Name Excel_BuiltIn__FilterDatabase_2: #REF!
Name Excel_BuiltIn__FilterDatabase_2: #REF!
Name Excel_BuiltIn__FilterDatabase_2: #REF!
Name Excel_BuiltIn__FilterDatabase_2: #REF!
Name Excel_BuiltIn__FilterDatabase_2: #REF!
Name Excel_BuiltIn__FilterDatabase_2: #REF!
Name Excel_BuiltIn__FilterDatabase_2: #REF!
Name Excel_BuiltIn__FilterDatabase_2: #REF!
Name Excel_BuiltIn__FilterDatabase_2: #REF!
Name Excel_BuiltIn__FilterDatabase_3: #REF!
Name Excel_BuiltIn__FilterDatabase_3: #REF!
Name Excel_BuiltIn__FilterDatabase_3: #REF!
Name Excel_BuiltIn__FilterDatabase_3: #REF!
Name Excel_BuiltIn__FilterDatabase_3: #REF!
Name Excel_BuiltIn__FilterDatabase_3: #REF!
Name Excel_BuiltIn__FilterDatabase_3: #REF!
Name Excel_BuiltIn__FilterDatabase_3: #REF!
Name Excel_BuiltIn__FilterDatabase_3: #REF!
Name Excel_BuiltIn__FilterDatabase_3: #REF!
Name Excel_BuiltIn__FilterDatabase_4: #REF!
Name Excel_BuiltIn__FilterDatabase_4: #REF!
Name Excel_BuiltIn__FilterDatabase_4: #REF!
Name Excel_BuiltIn__FilterDatabase_4: #REF!
Name Excel_BuiltIn__FilterDatabase_4: #REF!
Name Excel_BuiltIn__FilterDatabase_4: #REF!
Name Excel_BuiltIn__FilterDatabase_4: #REF!
Name Excel_BuiltIn__FilterDatabase_4: #REF!
Name Excel_BuiltIn__FilterDatabase_4: #REF!
Name Excel_BuiltIn__FilterDatabase_4: #REF!

Sheet Москва
A2: ЭКСПЕДИЦИЯ ПЛЮС | D2: Терминал 1: (Юг) г. Москва 1-й Котляковский переулок д.4 А | S2: nevatk.ru
D3: Терминал 2: (Мытищи) Московская обл., г. Мытищи, Олимпийский проспект, дом 40, корпус 3 | R3: 8-800-777-19-35
B5: тарифы из г.Москва | U5: онлайн калькулятор
B6: Минимаьная стоимость | C6: 1 - 100 кг | D6: 101 - 300 кг | E6: 301 - 500 кг | F6: 501 - 800 кг | G6: 801 - 1500 кг | H6: 1501 - 2000 кг | I6: 2001 - 3000 кг | J6: 3001 - 5000 кг | K6: от 5001 кг | L6: 0,1 - 0,4 м³ | M6: 0,5 - 1,2 м³ | N6: 1,3 - 2 м³ | O6: 2,1 - 3,2 м³ | P6: 3,3 - 6 м³ | Q6: 6,1 - 8 м³ | R6: 8,1 - 12 м³ | S6: 12 - 20 м³ | T6: от 20,1 м³
A8: Абакан | B8: 2500 | C8: 39.0625 | D8: 38.461538 | E8: 36.764706 | F8: 36.231884 | G8: 35.714286 | H8: 35.211268 | I8: 34.722222 | J8: 34.246575 | K8: 33.333333 | L8: =C8*280 -> 10937.5 | M8: =D8*280 -> 10769.231 | N8: =E8*280 -> 10294.118 | O8: =F8*280 -> 10144.928 | P8: =G8*280 -> 10000 | Q8: =H8*280 -> 9859.1549 | R8: =I8*280 -> 9722.2222 | S8: =J8*280 -> 9589.0411 | T8: =K8*280 -> 9333.3333
A9: Архангельск | B9: 2500 | C9: 26.5 | D9: 26 | E9: 25.5 | F9: 25.1 | G9: 25 | H9: 24.8 | I9: 24.5 | J9: 24.1 | K9: 23.5 | L9: =C9*280 -> 7420 | M9: =D9*280 -> 7280 | N9: =E9*280 -> 7140 | O9: =F9*280 -> 7028 | P9: =G9*280 -> 7000 | Q9: =H9*280 -> 6944 | R9: =I9*280 -> 6860 | S9: =J9*280 -> 6748 | T9: =K9*280 -> 6580
A10: Волгоград | B10: 800 | C10: 21.197 | D10: 20.79 | E10: 20.581 | F10: 20.35 | G10: 20.13 | H10: 19.811 | I10: 19.492 | J10: 19.25 | K10: 19.019 | L10: =C10*280 -> 5935.16 | M10: =D10*280 -> 5821.2 | N10: =E10*280 -> 5762.68 | O10: =F10*280 -> 5698 | P10: =G10*280 -> 5636.4 | Q10: =H10*280 -> 5547.08 | R10: =I10*280 -> 5457.76 | S10: =J10*280 -> 5390 | T10: =K10*280 -> 5325.32
A11: Воронеж | B11: 800 | C11: 17.86 | D11: 17.5 | E11: 17 | F11: 16.92 | G11: 16.58 | H11: 16.29 | I11: 16.06 | J11: 15.92 | K11: 15.84 | L11: =C11*280 -> 5000.8 | M11: =D11*280 -> 4900 | N11: =E11*280 -> 4760 | O11: =F11*280 -> 4737.6 | P11: =G11*280 -> 4642.4 | Q11: =H11*280 -> 4561.2 | R11: =I11*280 -> 4496.8 | S11: =J11*280 -> 4457.6 | T11: =K11*280 -> 4435.2
A12: Екатеринбург | B12: 2500 | C12: 25.8 | D12: 25.5 | E12: 25 | F12: 24.9 | G12: 24.6 | H12: 24.5 | I12: 24.35 | J12: 24.1 | K12: 24 | L12: =C12*280 -> 7224 | M12: =D12*280 -> 7140 | N12: =E12*280 -> 7000 | O12: =F12*280 -> 6972 | P12: =G12*280 -> 6888 | Q12: =H12*280 -> 6860 | R12: =I12*280 -> 6818 | S12: =J12*280 -> 6748 | T12: =K12*280 -> 6720
A13: Иркутск | B13: 2500 | C13: 42.5 | D13: 42.02 | E13: 41.38 | F13: 39.6 | G13: 39.04 | H13: 38.5 | I13: 37.97 | J13: 37.46 | K13: 36.96 | L13: =C13*280 -> 11900 | M13: =D13*280 -> 11765.6 | N13: =E13*280 -> 11586.4 | O13: =F13*280 -> 11088 | P13: =G13*280 -> 10931.2 | Q13: =H13*280 -> 10780 | R13: =I13*280 -> 10631.6 | S13: =J13*280 -> 10488.8 | T13: =K13*280 -> 10348.8
A14: Казань | B14: 800 | C14: 21 | D14: 19.7 | E14: 19.5 | F14: 19.3 | G14: 18.8 | H14: 18.5 | I14: 18.2 | J14: 18 | K14: 18 | L14: =C14*280 -> 5880 | M14: =D14*280 -> 5516 | N14: =E14*280 -> 5460 | O14: =F14*280 -> 5404 | P14: =G14*280 -> 5264 | Q14: =H14*280 -> 5180 | R14: =I14*280 -> 5096 | S14: =J14*280 -> 5040 | T14: =K14*280 -> 5040
A15: Калининград (паром) | B15: 3000 | C15: 46.265625 | D15: 45.634615 | E15: 43.852941 | F15: 43.293478 | G15: 42.75 | H15: 42.221831 | I15: 41.708333 | J15: 41.208904 | K15: 40.25 | L15: =C15*280 -> 12954.375 | M15: =D15*280 -> 12777.692 | N15: =E15*280 -> 12278.824 | O15: =F15*280 -> 12122.174 | P15: =G15*280 -> 11970 | Q15: =H15*280 -> 11822.113 | R15: =I15*280 -> 11678.333 | S15: =J15*280 -> 11538.493 | T15: =K15*280 -> 11270
A16: Краснодар | B16: 800 | C16: 23.473 | D16: 23.11 | E16: 22.494 | F16: 21.944 | G16: 21.614 | H16: 21.284 | I16: 21.009 | J16: 20.613 | K16: 20.327 | L16: =C16*280 -> 6572.44 | M16: =D16*280 -> 6470.8 | N16: =E16*280 -> 6298.32 | O16: =F16*280 -> 6144.32 | P16: =G16*280 -> 6051.92 | Q16: =H16*280 -> 5959.52 | R16: =I16*280 -> 5882.52 | S16: =J16*280 -> 5771.64 | T16: =K16*280 -> 5691.56
A17: Красноярск | B17: 2500 | C17: 40 | D17: 39.5 | E17: 39 | F17: 38.5 | G17: 38 | H17: 37.5 | I17: 37.5 | J17: 37 | K17: 36.5 | L17: =C17*280 -> 11200 | M17: =D17*280 -> 11060 | N17: =E17*280 -> 10920 | O17: =F17*280 -> 10780 | P17: =G17*280 -> 10640 | Q17: =H17*280 -> 10500 | R17: =I17*280 -> 10500 | S17: =J17*280 -> 10360 | T17: =K17*280 -> 10220
A18: Кызыл | B18: 3000 | C18: 57.323182 | D18: 55.417105 | E18: 53.640254 | F18: 52.79625 | G18: 51.979918 | H18: 51.189919 | I18: 50.425 | J18: 49.683984 | K18: 47.593657 | L18: =C18*280 -> 16050.491 | M18: =D18*280 -> 15516.789 | N18: =E18*280 -> 15019.271 | O18: =F18*280 -> 14782.95 | P18: =G18*280 -> 14554.377 | Q18: =H18*280 -> 14333.177 | R18: =I18*280 -> 14119 | S18: =J18*280 -> 13911.516 | T18: =K18*280 -> 13326.224
A19: Магнитогорск | B19: 1000 | C19: 23.475 | D19: 23.329787 | E19: 23.18662 | F19: 22.90625 | G19: 22.633562 | H19: 22.368243 | I19: 22.11 | J19: 21.613636 | K19: 20.915625 | L19: =C19*280 -> 6573 | M19: =D19*280 -> 6532.3404 | N19: =E19*280 -> 6492.2535 | O19: =F19*280 -> 6413.75 | P19: =G19*280 -> 6337.3973 | Q19: =H19*280 -> 6263.1081 | R19: =I19*280 -> 6190.8 | S19: =J19*280 -> 6051.8182 | T19: =K19*280 -> 5856.375
... A27: Саратов | B27: 2500 | C27: 20.5 | D27: 20.5 | E27: 19.6 | F27: 19.4 | G27: 19.2 | H27: 19 | I27: 18.7 | J27: 18.5 | K27: 18.5 | L27: =C27*280 -> 5740 | M27: =D27*280 -> 5740 | N27: =E27*280 -> 5488 | O27: =F27*280 -> 5432 | P27: =G27*280 -> 5376 | Q27: =H27*280 -> 5320 | R27: =I27*280 -> 5236 | S27: =J27*280 -> 5180 | T27: =K27*280 -> 5180
A28: Тарифы с учетом доставки до адреса:
A29: Абинск | B29: 5000 | C29: 42.473 | D29: 42.11 | E29: 41.494 | F29: 40.944 | G29: 40.614 | H29: 40.284 | I29: 40.009 | J29: 39.613 | K29: 39.327 | L29: =C29*280 -> 11892.44 | M29: =D29*280 -> 11790.8 | N29: =E29*280 -> 11618.32 | O29: =F29*280 -> 11464.32 | P29: =G29*280 -> 11371.92 | Q29: =H29*280 -> 11279.52 | R29: =I29*280 -> 11202.52 | S29: =J29*280 -> 11091.64 | T29: =K29*280 -> 11011.56
A30: Адлер | B30: 6000 | C30: 48.473 | D30: 48.11 | E30: 47.494 | F30: 46.944 | G30: 46.614 | H30: 46.284 | I30: 46.009 | J30: 45.613 | K30: 45.327 | L30: =C30*280 -> 13572.44 | M30: =D30*280 -> 13470.8 | N30: =E30*280 -> 13298.32 | O30: =F30*280 -> 13144.32 | P30: =G30*280 -> 13051.92 | Q30: =H30*280 -> 12959.52 | R30: =I30*280 -> 12882.52 | S30: =J30*280 -> 12771.64 | T30: =K30*280 -> 12691.56
A31: Анапа | B31: 5000 | C31: 42.473 | D31: 42.11 | E31: 41.494 | F31: 40.944 | G31: 40.614 | H31: 40.284 | I31: 40.009 | J31: 39.613 | K31: 39.327 | L31: =C31*280 -> 11892.44 | M31: =D31*280 -> 11790.8 | N31: =E31*280 -> 11618.32 | O31: =F31*280 -> 11464.32 | P31: =G31*280 -> 11371.92 | Q31: =H31*280 -> 11279.52 | R31: =I31*280 -> 11202.52 | S31: =J31*280 -> 11091.64 | T31: =K31*280 -> 11011.56
A32: Геленджик | B32: 5000 | C32: 42.473 | D32: 42.11 | E32: 41.494 | F32: 40.944 | G32: 40.614 | H32: 40.284 | I32: 40.009 | J32: 39.613 | K32: 39.327 | L32: =C32*280 -> 11892.44 | M32: =D32*280 -> 11790.8 | N32: =E32*280 -> 11618.32 | O32: =F32*280 -> 11464.32 | P32: =G32*280 -> 11371.92 | Q32: =H32*280 -> 11279.52 | R32: =I32*280 -> 11202.52 | S32: =J32*280 -> 11091.64 | T32: =K32*280 -> 11011.56
A33: Красная поляна | B33: 7000 | C33: 63.473 | D33: 63.11 | E33: 62.494 | F33: 61.944 | G33: 61.614 | H33: 61.284 | I33: 61.009 | J33: 60.613 | K33: 60.327 | L33: =C33*280 -> 17772.44 | M33: =D33*280 -> 17670.8 | N33: =E33*280 -> 17498.32 | O33: =F33*280 -> 17344.32 | P33: =G33*280 -> 17251.92 | Q33: =H33*280 -> 17159.52 | R33: =I33*280 -> 17082.52 | S33: =J33*280 -> 16971.64 | T33: =K33*280 -> 16891.56
A34: Кропоткин | B34: 8000 | C34: 48.473 | D34: 48.11 | E34: 47.494 | F34: 46.944 | G34: 46.614 | H34: 46.284 | I34: 46.009 | J34: 45.613 | K34: 45.327 | L34: =C34*280 -> 13572.44 | M34: =D34*280 -> 13470.8 | N34: =E34*280 -> 13298.32 | O34: =F34*280 -> 13144.32 | P34: =G34*280 -> 13051.92 | Q34: =H34*280 -> 12959.52 | R34: =I34*280 -> 12882.52 | S34: =J34*280 -> 12771.64 | T34: =K34*280 -> 12691.56
A35: Крымск | B35: 5000 | C35: 42.473 | D35: 42.11 | E35: 41.494 | F35: 40.944 | G35: 40.614 | H35: 40.284 | I35: 40.009 | J35: 39.613 | K35: 39.327 | L35: =C35*280 -> 11892.44 | M35: =D35*280 -> 11790.8 | N35: =E35*280 -> 11618.32 | O35: =F35*280 -> 11464.32 | P35: =G35*280 -> 11371.92 | Q35: =H35*280 -> 11279.52 | R35: =I35*280 -> 11202.52 | S35: =J35*280 -> 11091.64 | T35: =K35*280 -> 11011.56
A36: Новороссийск | B36: 5000 | C36: 42.473 | D36: 42.11 | E36: 41.494 | F36: 40.944 | G36: 40.614 | H36: 40.284 | I36: 40.009 | J36: 39.613 | K36: 39.327 | L36: =C36*280 -> 11892.44 | M36: =D36*280 -> 11790.8 | N36: =E36*280 -> 11618.32 | O36: =F36*280 -> 11464.32 | P36: =G36*280 -> 11371.92 | Q36: =H36*280 -> 11279.52 | R36: =I36*280 -> 11202.52 | S36: =J36*280 -> 11091.64 | T36: =K36*280 -> 11011.56
A37: Сочи | B37: 5500 | C37: 46.473 | D37: 46.11 | E37: 45.494 | F37: 44.944 | G37: 44.614 | H37: 44.284 | I37: 44.009 | J37: 43.613 | K37: 43.327 | L37: =C37*280 -> 13012.44 | M37: =D37*280 -> 12910.8 | N37: =E37*280 -> 12738.32 | O37: =F37*280 -> 12584.32 | P37: =G37*280 -> 12491.92 | Q37: =H37*280 -> 12399.52 | R37: =I37*280 -> 12322.52 | S37: =J37*280 -> 12211.64 | T37: =K37*280 -> 12131.56
A38: Цены действительны с 10.09.2026 г.
A40: Дополнительные услуги
A41: - доставка корреспонденции (не более 3 кг) 250 руб.
A42: - мягкая упаковка - 500 руб. за 1м3 (минимальная ст-ть - 300 руб.)
A43: - обрешетка - 1900 руб. за 1 м3 (минимальная ст-ть 1000 руб.) При заказе услуги объем груза увеличивается на 30%, вес из расчета +35 кг за каждый 1 м3 (минимум 15 кг)
A44: - паллетирование - 750 руб. за 1м3 (минимальная ст-ть - 450 руб.)
A45: ИНФОРМАЦИЯ
A46: - при сдаче груза необходимо приложить накладную, счет-фактуру, сертификаты (по необх.), доверенность; указанные документы
A47: необходимы для транспортировки груза по территории России и получателю не передаются!
A48: - возможна любая форма оплаты;
A49: - Если вес одного места превышает 500 кг, 1000 кг, 2000 кг, тариф увеличивается на 25%, 30%, 50% соответственно.
A50: - Если длина одного из измерений превышает 3м, 5м, 6м, 9м, тариф увеличивается на 20%, 30%, 50%, 100% соответственно.
... A53: Стоимость доставки/забора груза по городу Москва
A54: Вес (кг) | C54: 1 - 30 кг | D54: 31 - 100 кг | E54: 101 - 200 кг | F54: 201 - 400 кг | G54: 401 - 600 кг | H54: 601 - 800 кг | I54: 801 - 1000 кг | J54: 1001 - 1200 кг | K54: 1201 - 1500 кг | L54: 1501 - 2000 кг | M54: 2001 - 3000 кг | N54: 3001 - 5000 кг | O54: 5001 - 7000 кг | P54: 7001 - 10000 кг
A55: Объем (м/куб) | C55: 0 - 0,1 м³ | D55: 0,1 - 0,4 м³ | E55: 0,5 - 0,8 м³ | F55: 0,9 - 2 м³ | G55: 2,1 - 3 м³ | H55: 3,1 - 4м³ | I55: 4,1 - 5 м³ | J55: 5,1 - 6 м³ | K55: 6,1 - 8 м³ | L55: 8,1 - 11 м³ | M55: 11,1 - 16 м³ | N55: 16,1 - 25 м³ | O55: 25,1 - 35 м³ | P55: 35,1 - 40 м³
A56: Стоимость доставки (руб) | C56: 1200 | D56: 1700 | E56: 2200 | F56: 2500 | G56: 2800 | H56: 3200 | I56: 3800 | J56: 4500 | K56: 4900 | L56: 6800 | M56: 8000 | N56: 10000 | O56: 18000 | P56: 19000
A57: Стоимость а/м по области (руб/км) | C57: 30 | D57: 30 | E57: 30 | F57: 30 | G57: 30 | H57: 30 | I57: 33 | J57: 33 | K57: 33 | L57: 38 | M57: 38 | N57: 55 | O57: 60 | P57: 60
A58: Максимальная длина груза (м) | C58: 2 | D58: 2 | E58: 3 | F58: 3 | G58: 3 | H58: 3 | I58: 3 | J58: 3 | K58: 3 | L58: 4 | M58: 4 | N58: 5 | O58: 6 | P58: 6
A59: Максимальная ширина груза (м) | C59: 1.5 | D59: 1.5 | E59: 1.5 | F59: 1.5 | G59: 1.5 | H59: 1.8 | I59: 1.8 | J59: 1.8 | K59: 1.8 | L59: 2 | M59: 2 | N59: 2 | O59: 2.1 | P59: 2.1
A60: Максимальная высота шруза (м) | C60: 1.5 | D60: 1.5 | E60: 1.5 | F60: 1.5 | G60: 1.5 | H60: 1.7 | I60: 1.7 | J60: 1.7 | K60: 1.7 | L60: 1.7 | M60: 1.9 | N60: 2.1 | O60: 2.2 | P60: 2.2
A61: Количество евро-паллет 0,8х1,2 (шт) | C61: 1 | D61: 1 | E61: 1 | F61: 2 | G61: 2 | H61: 3 | I61: 3 | J61: 4 | K61: 4 | L61: 6 | M61: 6 | N61: 6 | O61: 10 | P61: 12
A62: Стоимость простоя (руб/час) | C62: 1100 | D62: 1100 | E62: 1100 | F62: 1100 | G62: 1100 | H62: 1100 | I62: 1100 | J62: 1100 | K62: 1100 | L62: 2200 | M62: 2200 | N62: 2200 | O62: 3300 | P62: 3300
A63: Время погрузки/разгрузки,ч | C63: 0.5 | D63: 0.5 | E63: 0.5 | F63: 0.5 | G63: 1 | H63: 1 | I63: 1 | J63: 1 | K63: 1 | L63: 1 | M63: 1 | N63: 1.5 | O63: 2 | P63: 2
A64: Въезд в ТТК (Третье Транспортное кольцо) | C64: 1000 | D64: 1000 | E64: 1000 | F64: 1000 | G64: 1000 | H64: 1000 | I64: 1000 | J64: 1000 | K64: 1000 | L64: 2000 | M64: 3000 | N64: 3000 | O64: 3000 | P64: 3000
A65: Въезд в СК (Садовое кольцо) | C65: 1000 | D65: 1000 | E65: 1000 | F65: 1000 | G65: 1000 | H65: 1000 | I65: 1000 | J65: 1000 | K65: 1000 | L65: 2000 | M65: - | N65: - | O65: - | P65: -
A66: Въезд в МЖД (Московское ЖД кольцо) | C66: - | D66: - | E66: - | F66: - | G66: - | H66: - | I66: - | J66: - | K66: - | L66: - | M66: 3000 | N66: 3000 | O66: 3000 | P66: 3000
A68: 1) Дополнительная услуга оказывается на основании заявки, которую необходимо заполнить на сайте nevatk.ru (заявки принятые с 09-00 до 16-30 выполняются
A69: на следующий день, после 16-30 через день)
A70: 2) Тарифы действительны при задней погрузке и доставке/получении груза в рабочее время, в четырехчасовой интервал, согласованный с отправителем/получателем иначе считается как подача машины ко времени - 1000 р.
A71: 3) При подаче машины в нерабочее время (с18-00 до 21-00 и с 7-00 до 9-00)-стандартный тариф + 2000 рублей. При подаче машины в ночное время(с 21-00 до 7-00) стоимость доставки договорная.
A72: 4) При выезде за черту города каждый километр пути туда/обратно оплачивается согласно тарифа .
A73: 5) Водитель-экспедитор НЕ ЗАНИМАЕТСЯ погрузо-разгрузочными работами.
A74: 6) Погрузо-разгрузочные работы на складе клиента оговариваются заранее! Стоимость услуги - 3,5руб,/кг,700руб/м3 Минимальная стоимость 500 р. (вес одного места
A75: не более 25 кг/0,2 м.куб, уровень первого этажа и не дальше 10 метров от автомобиля). Расчёт подъёма на этаж по лестнице осуществляется по
A76: формуле-вес/объём Х 3,5/700руб+вес/объём Х количество этажей
A77: 7) Стоимость не полного часа предоставления автомобиля под погрузку/разгрузку свыше установленного времени, рассчитывается как за целый час оказания услуг,
A78: согласно действующего тарифа (В нормативное время помимо погрузки/выгрузки входит оформление экспедитором документов)
A79: 8) При подаче машины с растентовкой или открытой машины , стоимость экспедирования оговаривается заранее.
... A82: Наши адреса:
A83: Санкт-Петербург: | I83: Самара:
A84: Партизанская ул., д.25 т.(812) 635-70-93, 635-70-94, 380-05-79 | I84: проезд Мальцева д.4 т. (846) 279-10-12
A85: 78@nevatk.ru | I85: 63@nevatk.ru
A87: Москва: | I87: Воронеж:
A88: 1) Московская обл., г. Мытищи, Олимпийский проспект, дом 40, корпус 3 | I88: ул. Димитрова, д.140А т. (473) 263-53-03, 263-53-23, 263-53-43
A89: 2) 1-й Котляковский переулок д.4 А т. (800) 777-19-35 | I89: 36@nevatk.ru
A90: 77@nevatk.ru
I91: Казань:
A92: Ростов-на-Дону: | I92: ул. 2-я Тихорецкая, д.39 (склад № 3) (800) 777-19-35
A93: Ростов-на-Дону, ул. Пескова, 3 т. (863) 299-80-92, 299-83-57 | I93: 116@nevatk.ru
A94: 61@nevatk.ru
A95: Волгоград: | I95: Нижний Новгород:
A96: Бетонная ул.. Д.9 т. (8442) 98-12-57, 98-12-67 | I96: ул. Кузбасская 15А т. (831) 429-06-31
A97: 34@nevatk.ru | I97: 52@nevatk.ru
A99: Краснодар: | I99: Саратов:
A100: улица Евдокии Бершанской, 359 т. (861) 210-91-46, 210-91-47 | I100: ул. Танкистов, 84 | K100: т. (902) 043-96-98, (965) 882-87-04
A101: 23@nevatk.ru | I101: 64@nevatk.ru

Sheet Санкт-Петербург
A2: ЭКСПЕДИЦИЯ ПЛЮС | E2: Терминал 1: г.Санкт-Петербург, ул. Партизанская д. 25 | N2: 8-800-777-19-35 | Q2: nevatk.ru
B5: тарифы из г.Санкт-Петербург | U5: онлайн калькулятор
B6: Минимаьная стоимость | C6: 1 - 100 кг | D6: 101 - 300 кг | E6: 301 - 500 кг | F6: 501 - 800 кг | G6: 801 - 1500 кг | H6: 1501 - 2000 кг | I6: 2001 - 3000 кг | J6: 3001 - 5000 кг | K6: от 5001 кг | L6: 0,1 - 0,4 м³ | M6: 0,5 - 1,2 м³ | N6: 1,3 - 2 м³ | O6: 2,1 - 3,2 м³ | P6: 3,3 - 6 м³ | Q6: 6,1 - 8 м³ | R6: 8,1 - 12 м³ | S6: 12 - 20 м³ | T6: от 20,1 м³
A8: Абакан | B8: 2500 | C8: 50.0625 | D8: 49.461538 | E8: 47.764706 | F8: 47.231884 | G8: 46.714286 | H8: 46.211268 | I8: 45.722222 | J8: 45.246575 | K8: 44.333333 | L8: =C8*280 -> 14017.5 | M8: =D8*280 -> 13849.231 | N8: =E8*280 -> 13374.118 | O8: =F8*280 -> 13224.928 | P8: =G8*280 -> 13080 | Q8: =H8*280 -> 12939.155 | R8: =I8*280 -> 12802.222 | S8: =J8*280 -> 12669.041 | T8: =K8*280 -> 12413.333
A9: Архангельск | B9: 2500 | C9: 26.5 | D9: 26 | E9: 25.5 | F9: 25.1 | G9: 25 | H9: 24.8 | I9: 24.5 | J9: 24.1 | K9: 23.5 | L9: =C9*280 -> 7420 | M9: =D9*280 -> 7280 | N9: =E9*280 -> 7140 | O9: =F9*280 -> 7028 | P9: =G9*280 -> 7000 | Q9: =H9*280 -> 6944 | R9: =I9*280 -> 6860 | S9: =J9*280 -> 6748 | T9: =K9*280 -> 6580
A10: Волгоград | B10: 850 | C10: 28 | D10: 27.9 | E10: 26.5 | F10: 25.9 | G10: 25.6 | H10: 25.3 | I10: 25 | J10: 24.9 | K10: 24.9 | L10: =C10*280 -> 7840 | M10: =D10*280 -> 7812 | N10: =E10*280 -> 7420 | O10: =F10*280 -> 7252 | P10: =G10*280 -> 7168 | Q10: =H10*280 -> 7084 | R10: =I10*280 -> 7000 | S10: =J10*280 -> 6972 | T10: =K10*280 -> 6972
A11: Воронеж | B11: 850 | C11: 23.5 | D11: 23 | E11: 22.5 | F11: 22 | G11: 21.8 | H11: 21.1 | I11: 20.9 | J11: 20.8 | K11: 20.5 | L11: =C11*280 -> 6580 | M11: =D11*280 -> 6440 | N11: =E11*280 -> 6300 | O11: =F11*280 -> 6160 | P11: =G11*280 -> 6104 | Q11: =H11*280 -> 5908 | R11: =I11*280 -> 5852 | S11: =J11*280 -> 5824 | T11: =K11*280 -> 5740
A12: Екатеринбург | B12: 2500 | C12: 26.3125 | D12: 26 | E12: 25.117647 | F12: 24.84058 | G12: 24.571429 | H12: 24.309859 | I12: 24.055556 | J12: 23.808219 | K12: 23.333333 | L12: =C12*280 -> 7367.5 | M12: =D12*280 -> 7280 | N12: =E12*280 -> 7032.9412 | O12: =F12*280 -> 6955.3623 | P12: =G12*280 -> 6880 | Q12: =H12*280 -> 6806.7606 | R12: =I12*280 -> 6735.5556 | S12: =J12*280 -> 6666.3014 | T12: =K12*280 -> 6533.3333
A13: Иркутск | B13: 2500 | C13: 46.15 | D13: 46.045 | E13: 45.94 | F13: 45.625 | G13: 45.205 | H13: 44.89 | I13: 44.575 | J13: 44.05 | K13: 43 | L13: =C13*280 -> 12922 | M13: =D13*280 -> 12892.6 | N13: =E13*280 -> 12863.2 | O13: =F13*280 -> 12775 | P13: =G13*280 -> 12657.4 | Q13: =H13*280 -> 12569.2 | R13: =I13*280 -> 12481 | S13: =J13*280 -> 12334 | T13: =K13*280 -> 12040
A14: Казань | B14: 850 | C14: 26 | D14: 25.5 | E14: 24.5 | F14: 23.8 | G14: 23.169011 | H14: 22.84994 | I14: 22.543633 | J14: 22.224562 | K14: 22.058646 | L14: =C14*280 -> 7280 | M14: =D14*280 -> 7140 | N14: =E14*280 -> 6860 | O14: =F14*280 -> 6664 | P14: =G14*280 -> 6487.323 | Q14: =H14*280 -> 6397.9833 | R14: =I14*280 -> 6312.2172 | S14: =J14*280 -> 6222.8775 | T14: =K14*280 -> 6176.4208
A15: Калининград (паром) | B15: 3000 | C15: 41.015625 | D15: 40.384615 | E15: 38.602941 | F15: 38.043478 | G15: 37.5 | H15: 36.971831 | I15: 36.458333 | J15: 35.958904 | K15: 35 | L15: =C15*280 -> 11484.375 | M15: =D15*280 -> 11307.692 | N15: =E15*280 -> 10808.824 | O15: =F15*280 -> 10652.174 | P15: =G15*280 -> 10500 | Q15: =H15*280 -> 10352.113 | R15: =I15*280 -> 10208.333 | S15: =J15*280 -> 10068.493 | T15: =K15*280 -> 9800
A16: Краснодар | B16: 850 | C16: 28 | D16: 27.8 | E16: 26.5 | F16: 26 | G16: 25.5 | H16: 25.2 | I16: 24.8 | J16: 24.6 | K16: 24.5 | L16: =C16*280 -> 7840 | M16: =D16*280 -> 7784 | N16: =E16*280 -> 7420 | O16: =F16*280 -> 7280 | P16: =G16*280 -> 7140 | Q16: =H16*280 -> 7056 | R16: =I16*280 -> 6944 | S16: =J16*280 -> 6888 | T16: =K16*280 -> 6860
A17: Красноярск | B17: 2500 | C17: 45.164062 | D17: 44.596154 | E17: 42.992647 | F17: 42.48913 | G17: 42 | H17: 41.524648 | I17: 41.0625 | J17: 40.613014 | K17: 39.75 | L17: =C17*280 -> 12645.938 | M17: =D17*280 -> 12486.923 | N17: =E17*280 -> 12037.941 | O17: =F17*280 -> 11896.957 | P17: =G17*280 -> 11760 | Q17: =H17*280 -> 11626.901 | R17: =I17*280 -> 11497.5 | S17: =J17*280 -> 11371.644 | T17: =K17*280 -> 11130
A18: Кызыл | B18: 3000 | C18: 64.835682 | D18: 62.929605 | E18: 61.152754 | F18: 60.30875 | G18: 59.492418 | H18: 58.702419 | I18: 57.9375 | J18: 57.196484 | K18: 55.106157 | L18: =C18*280 -> 18153.991 | M18: =D18*280 -> 17620.289 | N18: =E18*280 -> 17122.771 | O18: =F18*280 -> 16886.45 | P18: =G18*280 -> 16657.877 | Q18: =H18*280 -> 16436.677 | R18: =I18*280 -> 16222.5 | S18: =J18*280 -> 16015.016 | T18: =K18*280 -> 15429.724
A19: Магнитогорск | B19: 1000 | C19: 30.9875 | D19: 30.842287 | E19: 30.69912 | F19: 30.41875 | G19: 30.146062 | H19: 29.880743 | I19: 29.6225 | J19: 29.126136 | K19: 28.428125 | L19: =C19*280 -> 8676.5 | M19: =D19*280 -> 8635.8404 | N19: =E19*280 -> 8595.7535 | O19: =F19*280 -> 8517.25 | P19: =G19*280 -> 8440.8973 | Q19: =H19*280 -> 8366.6081 | R19: =I19*280 -> 8294.3 | S19: =J19*280 -> 8155.3182 | T19: =K19*280 -> 7959.875
... A27: Саратов | B27: 2500 | C27: 27.5 | D27: 27 | E27: 26.5 | F27: 25.5 | G27: 25 | H27: 24.5 | I27: 24.3 | J27: 24 | K27: 24 | L27: =C27*280 -> 7700 | M27: =D27*280 -> 7560 | N27: =E27*280 -> 7420 | O27: =F27*280 -> 7140 | P27: =G27*280 -> 7000 | Q27: =H27*280 -> 6860 | R27: =I27*280 -> 6804 | S27: =J27*280 -> 6720 | T27: =K27*280 -> 6720
A28: =Москва!A28 -> Тарифы с учетом доставки до адреса:
A29: Абинск | B29: 5000 | C29: 45 | D29: 44.9 | E29: 44.5 | F29: 44 | G29: 43.5 | H29: 43.2 | I29: 42.8 | J29: 42.6 | K29: 42.5 | L29: =C29*280 -> 12600 | M29: =D29*280 -> 12572 | N29: =E29*280 -> 12460 | O29: =F29*280 -> 12320 | P29: =G29*280 -> 12180 | Q29: =H29*280 -> 12096 | R29: =I29*280 -> 11984 | S29: =J29*280 -> 11928 | T29: =K29*280 -> 11900
A30: Адлер | B30: 6000 | C30: 51 | D30: 50.9 | E30: 50.5 | F30: 50 | G30: 49.5 | H30: 49.2 | I30: 48.8 | J30: 48.6 | K30: 48.5 | L30: =C30*280 -> 14280 | M30: =D30*280 -> 14252 | N30: =E30*280 -> 14140 | O30: =F30*280 -> 14000 | P30: =G30*280 -> 13860 | Q30: =H30*280 -> 13776 | R30: =I30*280 -> 13664 | S30: =J30*280 -> 13608 | T30: =K30*280 -> 13580
A31: Анапа | B31: 5000 | C31: 45 | D31: 44.9 | E31: 44.5 | F31: 44 | G31: 43.5 | H31: 43.2 | I31: 42.8 | J31: 42.6 | K31: 42.5 | L31: =C31*280 -> 12600 | M31: =D31*280 -> 12572 | N31: =E31*280 -> 12460 | O31: =F31*280 -> 12320 | P31: =G31*280 -> 12180 | Q31: =H31*280 -> 12096 | R31: =I31*280 -> 11984 | S31: =J31*280 -> 11928 | T31: =K31*280 -> 11900
A32: Геленджик | B32: 5000 | C32: 45 | D32: 44.9 | E32: 44.5 | F32: 44 | G32: 43.5 | H32: 43.2 | I32: 42.8 | J32: 42.6 | K32: 42.5 | L32: =C32*280 -> 12600 | M32: =D32*280 -> 12572 | N32: =E32*280 -> 12460 | O32: =F32*280 -> 12320 | P32: =G32*280 -> 12180 | Q32: =H32*280 -> 12096 | R32: =I32*280 -> 11984 | S32: =J32*280 -> 11928 | T32: =K32*280 -> 11900
A33: Красная поляна | B33: 7000 | C33: 66 | D33: 65.9 | E33: 65.5 | F33: 65 | G33: 64.5 | H33: 64.2 | I33: 63.8 | J33: 63.6 | K33: 63.5 | L33: =C33*280 -> 18480 | M33: =D33*280 -> 18452 | N33: =E33*280 -> 18340 | O33: =F33*280 -> 18200 | P33: =G33*280 -> 18060 | Q33: =H33*280 -> 17976 | R33: =I33*280 -> 17864 | S33: =J33*280 -> 17808 | T33: =K33*280 -> 17780
A34: Кропоткин | B34: 8000 | C34: 51 | D34: 50.9 | E34: 50.5 | F34: 50 | G34: 49.5 | H34: 49.2 | I34: 48.8 | J34: 48.6 | K34: 48.5 | L34: =C34*280 -> 14280 | M34: =D34*280 -> 14252 | N34: =E34*280 -> 14140 | O34: =F34*280 -> 14000 | P34: =G34*280 -> 13860 | Q34: =H34*280 -> 13776 | R34: =I34*280 -> 13664 | S34: =J34*280 -> 13608 | T34: =K34*280 -> 13580
A35: Крымск | B35: 5000 | C35: 45 | D35: 44.9 | E35: 44.5 | F35: 44 | G35: 43.5 | H35: 43.2 | I35: 42.8 | J35: 42.6 | K35: 42.5 | L35: =C35*280 -> 12600 | M35: =D35*280 -> 12572 | N35: =E35*280 -> 12460 | O35: =F35*280 -> 12320 | P35: =G35*280 -> 12180 | Q35: =H35*280 -> 12096 | R35: =I35*280 -> 11984 | S35: =J35*280 -> 11928 | T35: =K35*280 -> 11900
A36: Новороссийск | B36: 5000 | C36: 45 | D36: 44.9 | E36: 44.5 | F36: 44 | G36: 43.5 | H36: 43.2 | I36: 42.8 | J36: 42.6 | K36: 42.5 | L36: =C36*280 -> 12600 | M36: =D36*280 -> 12572 | N36: =E36*280 -> 12460 | O36: =F36*280 -> 12320 | P36: =G36*280 -> 12180 | Q36: =H36*280 -> 12096 | R36: =I36*280 -> 11984 | S36: =J36*280 -> 11928 | T36: =K36*280 -> 11900
A37: Сочи | B37: 5500 | C37: 49 | D37: 48.9 | E37: 48.5 | F37: 48 | G37: 47.5 | H37: 47.2 | I37: 46.8 | J37: 46.6 | K37: 46.5 | L37: =C37*280 -> 13720 | M37: =D37*280 -> 13692 | N37: =E37*280 -> 13580 | O37: =F37*280 -> 13440 | P37: =G37*280 -> 13300 | Q37: =H37*280 -> 13216 | R37: =I37*280 -> 13104 | S37: =J37*280 -> 13048 | T37: =K37*280 -> 13020
A38: =Москва!A38 -> Цены действительны с 10.09.2026 г.
A40: Дополнительные услуги
A41: - доставка корреспонденции (не более 3 кг) 250 руб.
A42: - мягкая упаковка - 500 руб. за 1м3 (минимальная ст-ть - 250 руб.)
A43: - обрешетка - 1900 руб. за 1 м3 (минимальная ст-ть 1000 руб.) При заказе услуги объем груза увеличивается на 30%, вес из расчета +35 кг за каждый 1 м3 (минимум 15 кг)
A44: - паллетирование - 750 руб. за 1м3 (минимальная ст-ть - 450 руб.)
A45: ИНФОРМАЦИЯ
A46: - при сдаче груза необходимо приложить накладную, счет-фактуру, сертификаты (по необх.), доверенность; указанные документы
A47: необходимы для транспортировки груза по территории России и получателю не передаются!
A48: - возможна любая форма оплаты;
A49: - Если вес одного места превышает 500 кг, 1000 кг, 2000 кг, тариф увеличивается на 25%, 30%, 50% соответственно.
A50: - Если длина одного из измерений превышает 3м, 5м, 6м, 9м, тариф увеличивается на 20%, 30%, 50%, 100% соответственно.
A51: - Бесплатное хранение перевозимого груза на складе составляет 3 дня.
A53: Стоимость доставки/забора груза по городу Санкт-Петербург
A54: Вес (кг) | C54: 1 - 100 кг | D54: 101 - 200 кг | E54: 201 - 400 кг | F54: 401 - 600 кг | G54: 601 - 800 кг | H54: 801 - 1000 кг | I54: 1001 - 1200 кг | J54: 1201 - 1500 кг | K54: 1501 - 2000 кг | L54: 2001 - 3000 кг | M54: 3001 - 5000 кг | N54: 5001 - 7000 кг | O54: 7001 - 10000 кг
A55: Объем (м/куб) | C55: 0,1 - 0,4 м³ | D55: 0,5 - 0,8 м³ | E55: 0,9 - 2 м³ | F55: 2,1 - 3 м³ | G55: 3,1 - 4м³ | H55: 4,1 - 5 м³ | I55: 5,1 - 6 м³ | J55: 6,1 - 8 м³ | K55: 8,1 - 11 м³ | L55: 11,1 - 16 м³ | M55: 16,1 - 25 м³ | N55: 25,1 - 35 м³ | O55: 35,1 - 40 м³
A56: Стоимость доставки (руб) | C56: 1300 | D56: 1650 | E56: 2000 | F56: 2300 | G56: 2600 | H56: 2850 | I56: 3200 | J56: 3600 | K56: 5000 | L56: 8500 | M56: 11000 | N56: 16000 | O56: 17000
A57: Стоимость а/м по области (руб/км) | C57: 30 | D57: 30 | E57: 30 | F57: 30 | G57: 30 | H57: 33 | I57: 33 | J57: 33 | K57: 38 | L57: 38 | M57: 55 | N57: 60 | O57: 60
A58: Максимальная длина груза (м) | C58: 2 | D58: 3 | E58: 3 | F58: 3 | G58: 3 | H58: 3 | I58: 3 | J58: 3 | K58: 4 | L58: 4 | M58: 5 | N58: 6 | O58: 6
A59: Максимальная ширина груза (м) | C59: 1.5 | D59: 1.5 | E59: 1.5 | F59: 1.5 | G59: 1.8 | H59: 1.8 | I59: 1.8 | J59: 1.8 | K59: 1.95 | L59: 1.95 | M59: 2 | N59: 2.1 | O59: 2.1
A60: Максимальная высота шруза (м) | C60: 1.5 | D60: 1.5 | E60: 1.5 | F60: 1.5 | G60: 1.7 | H60: 1.7 | I60: 1.7 | J60: 1.7 | K60: 1.7 | L60: 1.9 | M60: 2.1 | N60: 2.2 | O60: 2.2
A61: Количество евро-паллет 0,8х1,2 (шт) | C61: 1 | D61: 1 | E61: 2 | F61: 2 | G61: 3 | H61: 3 | I61: 4 | J61: 4 | K61: 6 | L61: 6 | M61: 6 | N61: 10 | O61: 12
A62: Стоимость простоя (руб/час) | C62: 1100 | D62: 1100 | E62: 1100 | F62: 1100 | G62: 1100 | H62: 1100 | I62: 1100 | J62: 1100 | K62: 2200 | L62: 2200 | M62: 2200 | N62: 3300 | O62: 3300
A63: Время погрузки/разгрузки,ч | C63: 0.5 | D63: 0.5 | E63: 0.5 | F63: 1 | G63: 1 | H63: 1 | I63: 1 | J63: 1 | K63: 1 | L63: 1 | M63: 1.5 | N63: 2 | O63: 2
A65: 1) Дополнительная услуга оказывается на основании заявки, которую необходимо заполнить на сайте nevatk.ru (заявки принятые с 09-00 до 16-30 выполняются
A66: на следующий день, после 16-30 через день)
A67: 2) Тарифы действительны при задней погрузке и доставке/получении груза в рабочее время, в четырехчасовой интервал, согласованный с отправителем/получателем иначе считается как подача машины ко времени - 1000 р.
A68: 3) При подаче машины в нерабочее время (с18-00 до 21-00 и с 7-00 до 9-00)-стандартный тариф + 2000 рублей. При подаче машины в ночное время(с 21-00 до 7-00) стоимость доставки договорная.
A69: 4) При выезде за черту города каждый километр пути туда/обратно оплачивается согласно тарифа .
A70: 5) Водитель-экспедитор НЕ ЗАНИМАЕТСЯ погрузо-разгрузочными работами.
A71: 6) Погрузо-разгрузочные работы на складе клиента оговариваются заранее! Стоимость услуги - 3,5руб,/кг,700руб/м3 Минимальная стоимость 500 р. (вес одного места
A72: не более 25 кг/0,2 м.куб, уровень первого этажа и не дальше 10 метров от автомобиля). Расчёт подъёма на этаж по лестнице осуществляется по
A73: формуле-вес/объём Х 3,5/700руб+вес/объём Х количество этажей
A74: 7) Стоимость не полного часа предоставления автомобиля под погрузку/разгрузку свыше установленного времени, рассчитывается как за целый час оказания услуг,
A75: согласно действующего тарифа (В нормативное время помимо погрузки/выгрузки входит оформление экспедитором документов)
A76: 8) При подаче машины с растентовкой или открытой машины , стоимость экспедирования оговаривается заранее.
... A79: Наши адреса:
A80: Санкт-Петербург: | I80: Самара:
A81: Партизанская ул., д.25 т.(812) 635-70-93, 635-70-94, 380-05-79 | I81: проезд Мальцева д.4 т. (846) 279-10-12
A82: 78@nevatk.ru | I82: 63@nevatk.ru
A84: Москва: | I84: Воронеж:
A85: 1) Московская обл., г. Мытищи, Олимпийский проспект, дом 40, корпус 3 | I85: ул. Димитрова, д.140А т. (473) 263-53-03, 263-53-23, 263-53-43
A86: 2) 1-й Котляковский переулок д.4 А т. (800) 777-19-35 | I86: 36@nevatk.ru
A87: 77@nevatk.ru
I88: Казань:
A89: Ростов-на-Дону: | I89: ул. 2-я Тихорецкая, д.39 (склад № 3) (800) 777-19-35
A90: Ростов-на-Дону, ул. Пескова, 3 т. (863) 299-80-92, 299-83-57 | I90: 116@nevatk.ru
A91: 61@nevatk.ru
A92: Волгоград: | I92: Нижний Новгород:
A93: Бетонная ул.. Д.9 т. (8442) 98-12-57, 98-12-67 | I93: ул. Кузбасская 15А т. (831) 429-06-31
A94: 34@nevatk.ru | I94: 52@nevatk.ru
A96: Краснодар: | I96: Саратов:
A97: улица Евдокии Бершанской, 359 т. (861) 210-91-46, 210-91-47 | I97: ул. Танкистов, 84 | K97: т. (902) 043-96-98, (965) 882-87-04
A98: 23@nevatk.ru | I98: 64@nevatk.ru

Sheet Воронеж
A2: ЭКСПЕДИЦИЯ ПЛЮС | E2: Терминал: г.Воронеж ул. Космонавтов д. 2 | L2: 8-800-777-19-35 | O2: nevatk.ru
B5: тарифы из г.Воронеж | U5: онлайн калькулятор
B6: Минимаьная стоимость | C6: 1 - 100 кг | D6: 101 - 300 кг | E6: 301 - 500 кг | F6: 501 - 800 кг | G6: 801 - 1500 кг | H6: 1501 - 2000 кг | I6: 2001 - 3000 кг | J6: 3001 - 5000 кг | K6: от 5001 кг | L6: 0,1 - 0,4 м³ | M6: 0,5 - 1,2 м³ | N6: 1,3 - 2 м³ | O6: 2,1 - 3,2 м³ | P6: 3,3 - 6 м³ | Q6: 6,1 - 8 м³ | R6: 8,1 - 12 м³ | S6: 12 - 20 м³ | T6: от 20,1 м³
A8: Абакан | B8: 2500 | C8: 50.0625 | D8: 49.461538 | E8: 47.764706 | F8: 47.231884 | G8: 46.714286 | H8: 46.211268 | I8: 45.722222 | J8: 45.246575 | K8: 44.333333 | L8: =C8*280 -> 14017.5 | M8: =D8*280 -> 13849.231 | N8: =E8*280 -> 13374.118 | O8: =F8*280 -> 13224.928 | P8: =G8*280 -> 13080 | Q8: =H8*280 -> 12939.155 | R8: =I8*280 -> 12802.222 | S8: =J8*280 -> 12669.041 | T8: =K8*280 -> 12413.333
A9: Архангельск | B9: 2500 | C9: 39.5 | D9: 39 | E9: 38.5 | F9: 38.1 | G9: 38 | H9: 37.8 | I9: 37.5 | J9: 37.1 | K9: 36.5 | L9: =C9*280 -> 11060 | M9: =D9*280 -> 10920 | N9: =E9*280 -> 10780 | O9: =F9*280 -> 10668 | P9: =G9*280 -> 10640 | Q9: =H9*280 -> 10584 | R9: =I9*280 -> 10500 | S9: =J9*280 -> 10388 | T9: =K9*280 -> 10220
A10: Волгоград | B10: 800 | C10: 19.2 | D10: 18.7 | E10: 18.6 | F10: 18.2 | G10: 17.7 | H10: 17.4 | I10: 17.2 | J10: 17 | K10: 16.7 | L10: =C10*280 -> 5376 | M10: =D10*280 -> 5236 | N10: =E10*280 -> 5208 | O10: =F10*280 -> 5096 | P10: =G10*280 -> 4956 | Q10: =H10*280 -> 4872 | R10: =I10*280 -> 4816 | S10: =J10*280 -> 4760 | T10: =K10*280 -> 4676
A11: Екатеринбург | B11: 2500 | C11: =Москва!C12+10 -> 35.8 | D11: =Москва!D12+10 -> 35.5 | E11: =Москва!E12+10 -> 35 | F11: =Москва!F12+10 -> 34.9 | G11: =Москва!G12+10 -> 34.6 | H11: =Москва!H12+10 -> 34.5 | I11: =Москва!I12+10 -> 34.35 | J11: =Москва!J12+10 -> 34.1 | K11: =Москва!K12+10 -> 34 | L11: =C11*280 -> 10024 | M11: =D11*280 -> 9940 | N11: =E11*280 -> 9800 | O11: =F11*280 -> 9772 | P11: =G11*280 -> 9688 | Q11: =H11*280 -> 9660 | R11: =I11*280 -> 9618 | S11: =J11*280 -> 9548 | T11: =K11*280 -> 9520
A12: Иркутск | B12: 2500 | C12: =Москва!C13+10 -> 52.5 | D12: =Москва!D13+10 -> 52.02 | E12: =Москва!E13+10 -> 51.38 | F12: =Москва!F13+10 -> 49.6 | G12: =Москва!G13+10 -> 49.04 | H12: =Москва!H13+10 -> 48.5 | I12: =Москва!I13+10 -> 47.97 | J12: =Москва!J13+10 -> 47.46 | K12: =Москва!K13+10 -> 46.96 | L12: =C12*280 -> 14700 | M12: =D12*280 -> 14565.6 | N12: =E12*280 -> 14386.4 | O12: =F12*280 -> 13888 | P12: =G12*280 -> 13731.2 | Q12: =H12*280 -> 13580 | R12: =I12*280 -> 13431.6 | S12: =J12*280 -> 13288.8 | T12: =K12*280 -> 13148.8
A13: Казань | B13: 850 | C13: 22.246471 | D13: 21.96729 | E13: 21.599175 | F13: 21.3456 | G13: 21.14715 | H13: 20.88255 | I13: 20.57385 | J13: 20.199 | K13: 19.702875 | L13: =C13*280 -> 6229.012 | M13: =D13*280 -> 6150.8412 | N13: =E13*280 -> 6047.769 | O13: =F13*280 -> 5976.768 | P13: =G13*280 -> 5921.202 | Q13: =H13*280 -> 5847.114 | R13: =I13*280 -> 5760.678 | S13: =J13*280 -> 5655.72 | T13: =K13*280 -> 5516.805
A14: Калининград (паром) | B14: 3000 | C14: =Москва!C15+10 -> 56.265625 | D14: =Москва!D15+10 -> 55.634615 | E14: =Москва!E15+10 -> 53.852941 | F14: =Москва!F15+10 -> 53.293478 | G14: =Москва!G15+10 -> 52.75 | H14: =Москва!H15+10 -> 52.221831 | I14: =Москва!I15+10 -> 51.708333 | J14: =Москва!J15+10 -> 51.208904 | K14: =Москва!K15+10 -> 50.25 | L14: =C14*280 -> 15754.375 | M14: =D14*280 -> 15577.692 | N14: =E14*280 -> 15078.824 | O14: =F14*280 -> 14922.174 | P14: =G14*280 -> 14770 | Q14: =H14*280 -> 14622.113 | R14: =I14*280 -> 14478.333 | S14: =J14*280 -> 14338.493 | T14: =K14*280 -> 14070
A15: Краснодар | B15: 800 | C15: 21 | D15: 20.5 | E15: 20.1 | F15: 20 | G15: 19.5 | H15: 19.2 | I15: 19 | J15: 18.5 | K15: 18.5 | L15: =C15*280 -> 5880 | M15: =D15*280 -> 5740 | N15: =E15*280 -> 5628 | O15: =F15*280 -> 5600 | P15: =G15*280 -> 5460 | Q15: =H15*280 -> 5376 | R15: =I15*280 -> 5320 | S15: =J15*280 -> 5180 | T15: =K15*280 -> 5180
A16: Красноярск | B16: 2500 | C16: =Москва!C17+10 -> 50 | D16: =Москва!D17+10 -> 49.5 | E16: =Москва!E17+10 -> 49 | F16: =Москва!F17+10 -> 48.5 | G16: =Москва!G17+10 -> 48 | H16: =Москва!H17+10 -> 47.5 | I16: =Москва!I17+10 -> 47.5 | J16: =Москва!J17+10 -> 47 | K16: =Москва!K17+10 -> 46.5 | L16: =C16*280 -> 14000 | M16: =D16*280 -> 13860 | N16: =E16*280 -> 13720 | O16: =F16*280 -> 13580 | P16: =G16*280 -> 13440 | Q16: =H16*280 -> 13300 | R16: =I16*280 -> 13300 | S16: =J16*280 -> 13160 | T16: =K16*280 -> 13020
A17: Кызыл | B17: 3000 | C17: =Москва!C18+10 -> 67.323182 | D17: =Москва!D18+10 -> 65.417105 | E17: =Москва!E18+10 -> 63.640254 | F17: =Москва!F18+10 -> 62.79625 | G17: =Москва!G18+10 -> 61.979918 | H17: =Москва!H18+10 -> 61.189919 | I17: =Москва!I18+10 -> 60.425 | J17: =Москва!J18+10 -> 59.683984 | K17: =Москва!K18+10 -> 57.593657 | L17: =C17*280 -> 18850.491 | M17: =D17*280 -> 18316.789 | N17: =E17*280 -> 17819.271 | O17: =F17*280 -> 17582.95 | P17: =G17*280 -> 17354.377 | Q17: =H17*280 -> 17133.177 | R17: =I17*280 -> 16919 | S17: =J17*280 -> 16711.516 | T17: =K17*280 -> 16126.224
A18: Магнитогорск | B18: 1000 | C18: =Москва!C19+10 -> 33.475 | D18: =Москва!D19+10 -> 33.329787 | E18: =Москва!E19+10 -> 33.18662 | F18: =Москва!F19+10 -> 32.90625 | G18: =Москва!G19+10 -> 32.633562 | H18: =Москва!H19+10 -> 32.368243 | I18: =Москва!I19+10 -> 32.11 | J18: =Москва!J19+10 -> 31.613636 | K18: =Москва!K19+10 -> 30.915625 | L18: =C18*280 -> 9373 | M18: =D18*280 -> 9332.3404 | N18: =E18*280 -> 9292.2535 | O18: =F18*280 -> 9213.75 | P18: =G18*280 -> 9137.3973 | Q18: =H18*280 -> 9063.1081 | R18: =I18*280 -> 8990.8 | S18: =J18*280 -> 8851.8182 | T18: =K18*280 -> 8656.375
A19: Москва | B19: 750 | C19: 14.489528 | D19: 14.160189 | E19: 13.856185 | F19: 13.526846 | G19: 13.197508 | H19: 12.903091 | I19: 12.61137 | J19: 12.404734 | K19: 12.331803 | L19: =C19*280 -> 4057.0678 | M19: =D19*280 -> 3964.853 | N19: =E19*280 -> 3879.7317 | O19: =F19*280 -> 3787.5169 | P19: =G19*280 -> 3695.3021 | Q19: =H19*280 -> 3612.8655 | R19: =I19*280 -> 3531.1835 | S19: =J19*280 -> 3473.3254 | T19: =K19*280 -> 3452.9049
A20: Мурманск | B20: 2500 | C20: =Москва!C20+10 -> 36.06465 | D20: =Москва!D20+10 -> 35.761609 | E20: =Москва!E20+10 -> 34.905961 | F20: =Москва!F20+10 -> 34.63728 | G20: =Москва!G20+10 -> 34.376275 | H20: =Москва!H20+10 -> 34.122622 | I20: =Москва!I20+10 -> 33.876016 | J20: =Москва!J20+10 -> 33.636165 | K20: =Москва!K20+10 -> 33.175653 | L20: =C20*280 -> 10098.102 | M20: =D20*280 -> 10013.25 | N20: =E20*280 -> 9773.6692 | O20: =F20*280 -> 9698.4384 | P20: =G20*280 -> 9625.357 | Q20: =H20*280 -> 9554.3343 | R20: =I20*280 -> 9485.2844 | S20: =J20*280 -> 9418.1263 | T20: =K20*280 -> 9289.1827
A21: Нижний Новгород | B21: 850 | C21: 18.370777 | D21: 18.149495 | E21: 17.903546 | F21: 17.637293 | G21: 17.301581 | H21: 16.931141 | I21: 16.664888 | J21: 16.363905 | K21: 15.970313 | L21: =C21*280 -> 5143.8174 | M21: =D21*280 -> 5081.8585 | N21: =E21*280 -> 5012.993 | O21: =F21*280 -> 4938.4419 | P21: =G21*280 -> 4844.4428 | Q21: =H21*280 -> 4740.7196 | R21: =I21*280 -> 4666.1685 | S21: =J21*280 -> 4581.8934 | T21: =K21*280 -> 4471.6875
A22: Новосибирск | B22: 2500 | C22: =Москва!C22+10 -> 45 | D22: =Москва!D22+10 -> 44.8 | E22: =Москва!E22+10 -> 44.7 | F22: =Москва!F22+10 -> 44.2 | G22: =Москва!G22+10 -> 43.6 | H22: =Москва!H22+10 -> 43.5 | I22: =Москва!I22+10 -> 43.3 | J22: =Москва!J22+10 -> 43 | K22: =Москва!K22+10 -> 43 | L22: =C22*280 -> 12600 | M22: =D22*280 -> 12544 | N22: =E22*280 -> 12516 | O22: =F22*280 -> 12376 | P22: =G22*280 -> 12208 | Q22: =H22*280 -> 12180 | R22: =I22*280 -> 12124 | S22: =J22*280 -> 12040 | T22: =K22*280 -> 12040
A23: Петрозаводск | B23: 2500 | C23: =Москва!C23+10 -> 32 | D23: =Москва!D23+10 -> 31.3 | E23: =Москва!E23+10 -> 31.2 | F23: =Москва!F23+10 -> 31 | G23: =Москва!G23+10 -> 30.5 | H23: =Москва!H23+10 -> 30.3 | I23: =Москва!I23+10 -> 30 | J23: =Москва!J23+10 -> 30 | K23: =Москва!K23+10 -> 30 | L23: =C23*280 -> 8960 | M23: =D23*280 -> 8764 | N23: =E23*280 -> 8736 | O23: =F23*280 -> 8680 | P23: =G23*280 -> 8540 | Q23: =H23*280 -> 8484 | R23: =I23*280 -> 8400 | S23: =J23*280 -> 8400 | T23: =K23*280 -> 8400
A24: Ростов-на-Дону | B24: 750 | C24: 20.5 | D24: 20 | E24: 19.6 | F24: 19.5 | G24: 19 | H24: 18.7 | I24: 18.5 | J24: 18 | K24: 18 | L24: =C24*280 -> 5740 | M24: =D24*280 -> 5600 | N24: =E24*280 -> 5488 | O24: =F24*280 -> 5460 | P24: =G24*280 -> 5320 | Q24: =H24*280 -> 5236 | R24: =I24*280 -> 5180 | S24: =J24*280 -> 5040 | T24: =K24*280 -> 5040
A25: Самара | B25: 850 | C25: 20.51988 | D25: 20.259348 | E25: 19.998816 | F25: 19.758324 | G25: 19.497792 | H25: 19.23726 | I25: 18.872515 | J25: 18.515064 | K25: 18.164763 | L25: =C25*280 -> 5745.5665 | M25: =D25*280 -> 5672.6175 | N25: =E25*280 -> 5599.6684 | O25: =F25*280 -> 5532.3309 | P25: =G25*280 -> 5459.3818 | Q25: =H25*280 -> 5386.4328 | R25: =I25*280 -> 5284.3041 | S25: =J25*280 -> 5184.218 | T25: =K25*280 -> 5086.1337
A26: Санкт-Петербург | B26: 850 | C26: 18.724886 | D26: 18.400656 | E26: 18.049406 | F26: 17.698156 | G26: 17.373926 | H26: 17.022676 | I26: 16.967219 | J26: 16.667874 | K26: 16.374517 | L26: =C26*280 -> 5242.9681 | M26: =D26*280 -> 5152.1836 | N26: =E26*280 -> 5053.8337 | O26: =F26*280 -> 4955.4838 | P26: =G26*280 -> 4864.6993 | Q26: =H26*280 -> 4766.3494 | R26: =I26*280 -> 4750.8213 | S26: =J26*280 -> 4667.0048 | T26: =K26*280 -> 4584.8647
A27: Саратов | B27: 2500 | C27: =Москва!C27+10 -> 30.5 | D27: =Москва!D27+10 -> 30.5 | E27: =Москва!E27+10 -> 29.6 | F27: =Москва!F27+10 -> 29.4 | G27: =Москва!G27+10 -> 29.2 | H27: =Москва!H27+10 -> 29 | I27: =Москва!I27+10 -> 28.7 | J27: =Москва!J27+10 -> 28.5 | K27: =Москва!K27+10 -> 28.5 | L27: =C27*280 -> 8540 | M27: =D27*280 -> 8540 | N27: =E27*280 -> 8288 | O27: =F27*280 -> 8232 | P27: =G27*280 -> 8176 | Q27: =H27*280 -> 8120 | R27: =I27*280 -> 8036 | S27: =J27*280 -> 7980 | T27: =K27*280 -> 7980
A28: =Москва!A28 -> Тарифы с учетом доставки до адреса:
A29: Абинск | B29: 5000 | C29: 40 | D29: 39.5 | E29: 39.1 | F29: 39 | G29: 38.5 | H29: 38.2 | I29: 38 | J29: 37.5 | K29: 37.5 | L29: =C29*280 -> 11200 | M29: =D29*280 -> 11060 | N29: =E29*280 -> 10948 | O29: =F29*280 -> 10920 | P29: =G29*280 -> 10780 | Q29: =H29*280 -> 10696 | R29: =I29*280 -> 10640 | S29: =J29*280 -> 10500 | T29: =K29*280 -> 10500
A30: Адлер | B30: 6000 | C30: 46 | D30: 45.5 | E30: 45.1 | F30: 45 | G30: 44.5 | H30: 44.2 | I30: 44 | J30: 43.5 | K30: 43.5 | L30: =C30*280 -> 12880 | M30: =D30*280 -> 12740 | N30: =E30*280 -> 12628 | O30: =F30*280 -> 12600 | P30: =G30*280 -> 12460 | Q30: =H30*280 -> 12376 | R30: =I30*280 -> 12320 | S30: =J30*280 -> 12180 | T30: =K30*280 -> 12180
A31: Анапа | B31: 5000 | C31: 40 | D31: 39.5 | E31: 39.1 | F31: 39 | G31: 38.5 | H31: 38.2 | I31: 38 | J31: 37.5 | K31: 37.5 | L31: =C31*280 -> 11200 | M31: =D31*280 -> 11060 | N31: =E31*280 -> 10948 | O31: =F31*280 -> 10920 | P31: =G31*280 -> 10780 | Q31: =H31*280 -> 10696 | R31: =I31*280 -> 10640 | S31: =J31*280 -> 10500 | T31: =K31*280 -> 10500
A32: Геленджик | B32: 5000 | C32: 40 | D32: 39.5 | E32: 39.1 | F32: 39 | G32: 38.5 | H32: 38.2 | I32: 38 | J32: 37.5 | K32: 37.5 | L32: =C32*280 -> 11200 | M32: =D32*280 -> 11060 | N32: =E32*280 -> 10948 | O32: =F32*280 -> 10920 | P32: =G32*280 -> 10780 | Q32: =H32*280 -> 10696 | R32: =I32*280 -> 10640 | S32: =J32*280 -> 10500 | T32: =K32*280 -> 10500
A33: Красная поляна | B33: 7000 | C33: 61 | D33: 60.5 | E33: 60.1 | F33: 60 | G33: 59.5 | H33: 59.2 | I33: 59 | J33: 58.5 | K33: 58.5 | L33: =C33*280 -> 17080 | M33: =D33*280 -> 16940 | N33: =E33*280 -> 16828 | O33: =F33*280 -> 16800 | P33: =G33*280 -> 16660 | Q33: =H33*280 -> 16576 | R33: =I33*280 -> 16520 | S33: =J33*280 -> 16380 | T33: =K33*280 -> 16380
A34: Кропоткин | B34: 8000 | C34: 46 | D34: 45.5 | E34: 45.1 | F34: 45 | G34: 44.5 | H34: 44.2 | I34: 44 | J34: 43.5 | K34: 43.5 | L34: =C34*280 -> 12880 | M34: =D34*280 -> 12740 | N34: =E34*280 -> 12628 | O34: =F34*280 -> 12600 | P34: =G34*280 -> 12460 | Q34: =H34*280 -> 12376 | R34: =I34*280 -> 12320 | S34: =J34*280 -> 12180 | T34: =K34*280 -> 12180
A35: Крымск | B35: 5000 | C35: 40 | D35: 39.5 | E35: 39.1 | F35: 39 | G35: 38.5 | H35: 38.2 | I35: 38 | J35: 37.5 | K35: 37.5 | L35: =C35*280 -> 11200 | M35: =D35*280 -> 11060 | N35: =E35*280 -> 10948 | O35: =F35*280 -> 10920 | P35: =G35*280 -> 10780 | Q35: =H35*280 -> 10696 | R35: =I35*280 -> 10640 | S35: =J35*280 -> 10500 | T35: =K35*280 -> 10500
A36: Новороссийск | B36: 5000 | C36: 40 | D36: 39.5 | E36: 39.1 | F36: 39 | G36: 38.5 | H36: 38.2 | I36: 38 | J36: 37.5 | K36: 37.5 | L36: =C36*280 -> 11200 | M36: =D36*280 -> 11060 | N36: =E36*280 -> 10948 | O36: =F36*280 -> 10920 | P36: =G36*280 -> 10780 | Q36: =H36*280 -> 10696 | R36: =I36*280 -> 10640 | S36: =J36*280 -> 10500 | T36: =K36*280 -> 10500
A37: Сочи | B37: 5500 | C37: 44 | D37: 43.5 | E37: 43.1 | F37: 43 | G37: 42.5 | H37: 42.2 | I37: 42 | J37: 41.5 | K37: 41.5 | L37: =C37*280 -> 12320 | M37: =D37*280 -> 12180 | N37: =E37*280 -> 12068 | O37: =F37*280 -> 12040 | P37: =G37*280 -> 11900 | Q37: =H37*280 -> 11816 | R37: =I37*280 -> 11760 | S37: =J37*280 -> 11620 | T37: =K37*280 -> 11620
A38: =Москва!A38 -> Цены действительны с 10.09.2026 г.
A40: Дополнительные услуги
A41: - доставка корреспонденции (не более 3 кг) 250 руб.
A42: - мягкая упаковка - 500 руб. за 1м3 (минимальная ст-ть - 250 руб.)
A43: - обрешетка - 1900 руб. за 1 м3 (минимальная ст-ть 1000 руб.) При заказе услуги объем груза увеличивается на 30%, вес из расчета +35 кг за каждый 1 м3 (минимум 15 кг)
A44: - паллетирование - 750 руб. за 1м3 (минимальная ст-ть - 450 руб.)
A45: ИНФОРМАЦИЯ
A46: - при сдаче груза необходимо приложить накладную, счет-фактуру, сертификаты (по необх.), доверенность; указанные документы
A47: необходимы для транспортировки груза по территории России и получателю не передаются!
A48: - возможна любая форма оплаты;
A49: - Если вес одного места превышает 500 кг, 1000 кг, 2000 кг, тариф увеличивается на 25%, 30%, 50% соответственно.
A50: - Если длина одного из измерений превышает 3м, 5м, 6м, 9м, тариф увеличивается на 20%, 30%, 50%, 100% соответственно.
A51: - Бесплатное хранение перевозимого груза на складе составляет 3 дня.
A53: Стоимость доставки/забора груза по городу Воронеж
A54: Вес (кг) | C54: 1 - 100 кг | D54: 101 - 200 кг | E54: 201 - 400 кг | F54: 401 - 600 кг | G54: 601 - 800 кг | H54: 801 - 1000 кг | I54: 1001 - 1200 кг | J54: 1201 - 1500 кг | K54: 1501 - 2000 кг | L54: 2001 - 3000 кг | M54: 3001 - 5000 кг | N54: 5001 - 7000 кг | O54: 7001 - 10000 кг
A55: Объем (м/куб) | C55: 0,1 - 0,4 м³ | D55: 0,5 - 0,8 м³ | E55: 0,5 - 2 м³ | F55: 2,1 - 3 м³ | G55: 3,1 - 4м³ | H55: 4,1 - 5 м³ | I55: 5,1 - 6 м³ | J55: 6,1 - 8 м³ | K55: 8,1 - 11 м³ | L55: 11,1 - 16 м³ | M55: 16,1 - 25 м³ | N55: 25,1 - 35 м³ | O55: 35,1 - 40 м³
A56: Стоимость доставки (руб) | C56: 900 | D56: 1100 | E56: 1320 | F56: 1540 | G56: 1760 | H56: 2090 | I56: 2310 | J56: 2750 | K56: 3520 | L56: 6380 | M56: 8500 | N56: 13200 | O56: 15400
A57: Стоимость а/м по области (руб/км) | C57: 30 | D57: 30 | E57: 30 | F57: 30 | G57: 30 | H57: 33 | I57: 33 | J57: 33 | K57: 38 | L57: 38 | M57: 55 | N57: 60 | O57: 60
A58: Максимальная длина груза (м) | C58: 2 | D58: 3 | E58: 3 | F58: 3 | G58: 3 | H58: 3 | I58: 3 | J58: 3 | K58: 4 | L58: 4 | M58: 5 | N58: 6 | O58: 6
A59: Максимальная ширина груза (м) | C59: 1.5 | D59: 1.5 | E59: 1.5 | F59: 1.5 | G59: 1.8 | H59: 1.8 | I59: 1.8 | J59: 1.8 | K59: 1.95 | L59: 1.95 | M59: 2 | N59: 2.1 | O59: 2.1
A60: Максимальная высота шруза (м) | C60: 1.5 | D60: 1.5 | E60: 1.5 | F60: 1.5 | G60: 1.7 | H60: 1.7 | I60: 1.7 | J60: 1.7 | K60: 1.7 | L60: 1.9 | M60: 2.1 | N60: 2.2 | O60: 2.2
A61: Количество евро-паллет 0,8х1,2 (шт) | C61: 1 | D61: 1 | E61: 2 | F61: 2 | G61: 3 | H61: 3 | I61: 4 | J61: 4 | K61: 6 | L61: 6 | M61: 6 | N61: 10 | O61: 12
A62: Стоимость простоя (руб/час) | C62: 1100 | D62: 1100 | E62: 1100 | F62: 1100 | G62: 1100 | H62: 1100 | I62: 1100 | J62: 1100 | K62: 2200 | L62: 2200 | M62: 2200 | N62: 3300 | O62: 3300
A63: Время погрузки/разгрузки,ч | C63: 0.5 | D63: 0.5 | E63: 0.5 | F63: 1 | G63: 1 | H63: 1 | I63: 1 | J63: 1 | K63: 1 | L63: 1 | M63: 1.5 | N63: 2 | O63: 2
A65: 1) Дополнительная услуга оказывается на основании заявки, которую необходимо заполнить на сайте nevatk.ru (заявки принятые с 09-00 до 16-30 выполняются
A66: на следующий день, после 16-30 через день)
A67: 2) Тарифы действительны при задней погрузке и доставке/получении груза в рабочее время, в четырехчасовой интервал, согласованный с отправителем/получателем иначе считается как подача машины ко времени - 1000 р.
A68: 3) При подаче машины в нерабочее время (с18-00 до 21-00 и с 7-00 до 9-00)-стандартный тариф + 2000 рублей. При подаче машины в ночное время(с 21-00 до 7-00) стоимость доставки договорная.
A69: 4) При выезде за черту города каждый километр пути туда/обратно оплачивается согласно тарифа .
A70: 5) Водитель-экспедитор НЕ ЗАНИМАЕТСЯ погрузо-разгрузочными работами.
A71: 6) Погрузо-разгрузочные работы на складе клиента оговариваются заранее! Стоимость услуги - 3,5руб,/кг,700руб/м3 Минимальная стоимость 500 р. (вес одного места
A72: не более 25 кг/0,2 м.куб, уровень первого этажа и не дальше 10 метров от автомобиля). Расчёт подъёма на этаж по лестнице осуществляется по
A73: формуле-вес/объём Х 3,5/700руб+вес/объём Х количество этажей
A74: 7) Стоимость не полного часа предоставления автомобиля под погрузку/разгрузку свыше установленного времени, рассчитывается как за целый час оказания услуг,
A75: согласно действующего тарифа (В нормативное время помимо погрузки/выгрузки входит оформление экспедитором документов)
A76: 8) При подаче машины с растентовкой или открытой машины , стоимость экспедирования оговаривается заранее.
... A79: Наши адреса:
A80: Санкт-Петербург: | I80: Самара:
A81: Партизанская ул., д.25 т.(812) 635-70-93, 635-70-94, 380-05-79 | I81: проезд Мальцева д.4 т. (846) 279-10-12
A82: 78@nevatk.ru | I82: 63@nevatk.ru
A84: Москва: | I84: Воронеж:
A85: 1) Московская обл., г. Мытищи, Олимпийский проспект, дом 40, корпус 3 | I85: ул. Димитрова, д.140А т. (473) 263-53-03, 263-53-23, 263-53-43
A86: 2) 1-й Котляковский переулок д.4 А т. (800) 777-19-35 | I86: 36@nevatk.ru
A87: 77@nevatk.ru
I88: Казань:
A89: Ростов-на-Дону: | I89: ул. 2-я Тихорецкая, д.39 (склад № 3) (800) 777-19-35
A90: Ростов-на-Дону, ул. Пескова, 3 т. (863) 299-80-92, 299-83-57 | I90: 116@nevatk.ru
A91: 61@nevatk.ru
A92: Волгоград: | I92: Нижний Новгород:
A93: Бетонная ул.. Д.9 т. (8442) 98-12-57, 98-12-67 | I93: ул. Кузбасская 15А т. (831) 429-06-31
A94: 34@nevatk.ru | I94: 52@nevatk.ru
A96: Краснодар: | I96: Саратов:
A97: улица Евдокии Бершанской, 359 т. (861) 210-91-46, 210-91-47 | I97: ул. Танкистов, 84 | K97: т. (902) 043-96-98, (965) 882-87-04
A98: 23@nevatk.ru | I98: 64@nevatk.ru

Sheet Краснодар
A2: ЭКСПЕДИЦИЯ ПЛЮС | E2: Терминал: | G2: г.Краснодар, ул. Уральская, д.144, (территория складского комплекса "Краснодар АГРО Промснаб-1", склад №4 "В") | P2: 8-800-777-19-35 | S2: nevatk.ru
B5: тарифы из г.Краснодар | U5: онлайн калькулятор
B6: Минимаьная стоимость | C6: 1 - 100 кг | D6: 101 - 300 кг | E6: 301 - 500 кг | F6: 501 - 800 кг | G6: 801 - 1500 кг | H6: 1501 - 2000 кг | I6: 2001 - 3000 кг | J6: 3001 - 5000 кг | K6: от 5001 кг | L6: 0,1 - 0,4 м³ | M6: 0,5 - 1,2 м³ | N6: 1,3 - 2 м³ | O6: 2,1 - 3,2 м³ | P6: 3,3 - 6 м³ | Q6: 6,1 - 8 м³ | R6: 8,1 - 12 м³ | S6: 12 - 20 м³ | T6: от 20,1 м³
A8: Абакан | B8: 2500 | C8: =Москва!C8+13 -> 52.0625 | D8: =Москва!D8+13 -> 51.461538 | E8: =Москва!E8+13 -> 49.764706 | F8: =Москва!F8+13 -> 49.231884 | G8: =Москва!G8+13 -> 48.714286 | H8: =Москва!H8+13 -> 48.211268 | I8: =Москва!I8+13 -> 47.722222 | J8: =Москва!J8+13 -> 47.246575 | K8: =Москва!K8+13 -> 46.333333 | L8: =C8*280 -> 14577.5 | M8: =D8*280 -> 14409.231 | N8: =E8*280 -> 13934.118 | O8: =F8*280 -> 13784.928 | P8: =G8*280 -> 13640 | Q8: =H8*280 -> 13499.155 | R8: =I8*280 -> 13362.222 | S8: =J8*280 -> 13229.041 | T8: =K8*280 -> 12973.333
A9: Архангельск | B9: 2500 | C9: 41.5 | D9: 41 | E9: 40.5 | F9: 40.1 | G9: 40 | H9: 39.8 | I9: 39.5 | J9: 39.1 | K9: 38.5 | L9: =C9*280 -> 11620 | M9: =D9*280 -> 11480 | N9: =E9*280 -> 11340 | O9: =F9*280 -> 11228 | P9: =G9*280 -> 11200 | Q9: =H9*280 -> 11144 | R9: =I9*280 -> 11060 | S9: =J9*280 -> 10948 | T9: =K9*280 -> 10780
A10: Волгоград | B10: 1000 | C10: 16.883492 | D10: 16.712043 | E10: 16.426834 | F10: 16.117858 | G10: 15.942948 | H10: 15.764713 | I10: 15.473653 | J10: 15.328123 | K10: 15.218975 | L10: =C10*280 -> 4727.3778 | M10: =D10*280 -> 4679.3722 | N10: =E10*280 -> 4599.5136 | O10: =F10*280 -> 4513.0001 | P10: =G10*280 -> 4464.0253 | Q10: =H10*280 -> 4414.1195 | R10: =I10*280 -> 4332.6227 | S10: =J10*280 -> 4291.8743 | T10: =K10*280 -> 4261.313
A11: Воронеж | B11: 800 | C11: 17.304551 | D11: 17.050695 | E11: 16.65985 | F11: 16.341287 | G11: 16.266425 | H11: 15.837141 | I11: 15.540398 | J11: 15.24959 | K11: 15.25 | L11: =C11*280 -> 4845.2742 | M11: =D11*280 -> 4774.1946 | N11: =E11*280 -> 4664.758 | O11: =F11*280 -> 4575.5605 | P11: =G11*280 -> 4554.5991 | Q11: =H11*280 -> 4434.3995 | R11: =I11*280 -> 4351.3115 | S11: =J11*280 -> 4269.8853 | T11: =K11*280 -> 4270
A12: Екатеринбург | B12: 2500 | C12: =Москва!C12+13 -> 38.8 | D12: =Москва!D12+13 -> 38.5 | E12: =Москва!E12+13 -> 38 | F12: =Москва!F12+13 -> 37.9 | G12: =Москва!G12+13 -> 37.6 | H12: =Москва!H12+13 -> 37.5 | I12: =Москва!I12+13 -> 37.35 | J12: =Москва!J12+13 -> 37.1 | K12: =Москва!K12+13 -> 37 | L12: =C12*280 -> 10864 | M12: =D12*280 -> 10780 | N12: =E12*280 -> 10640 | O12: =F12*280 -> 10612 | P12: =G12*280 -> 10528 | Q12: =H12*280 -> 10500 | R12: =I12*280 -> 10458 | S12: =J12*280 -> 10388 | T12: =K12*280 -> 10360
A13: Иркутск | B13: 2500 | C13: =Москва!C13+13 -> 55.5 | D13: =Москва!D13+13 -> 55.02 | E13: =Москва!E13+13 -> 54.38 | F13: =Москва!F13+13 -> 52.6 | G13: =Москва!G13+13 -> 52.04 | H13: =Москва!H13+13 -> 51.5 | I13: =Москва!I13+13 -> 50.97 | J13: =Москва!J13+13 -> 50.46 | K13: =Москва!K13+13 -> 49.96 | L13: =C13*280 -> 15540 | M13: =D13*280 -> 15405.6 | N13: =E13*280 -> 15226.4 | O13: =F13*280 -> 14728 | P13: =G13*280 -> 14571.2 | Q13: =H13*280 -> 14420 | R13: =I13*280 -> 14271.6 | S13: =J13*280 -> 14128.8 | T13: =K13*280 -> 13988.8
A14: Казань | B14: 850 | C14: 21.470085 | D14: 21.352118 | E14: 21.23415 | F14: 21.116183 | G14: 20.998215 | H14: 20.880248 | I14: 20.644313 | J14: 20.054475 | K14: 20.054475 | L14: =C14*280 -> 6011.6238 | M14: =D14*280 -> 5978.5929 | N14: =E14*280 -> 5945.562 | O14: =F14*280 -> 5912.5311 | P14: =G14*280 -> 5879.5002 | Q14: =H14*280 -> 5846.4693 | R14: =I14*280 -> 5780.4075 | S14: =J14*280 -> 5615.253 | T14: =K14*280 -> 5615.253
A15: Калининград (паром) | B15: 3000 | C15: =Москва!C15+13 -> 59.265625 | D15: =Москва!D15+13 -> 58.634615 | E15: =Москва!E15+13 -> 56.852941 | F15: =Москва!F15+13 -> 56.293478 | G15: =Москва!G15+13 -> 55.75 | H15: =Москва!H15+13 -> 55.221831 | I15: =Москва!I15+13 -> 54.708333 | J15: =Москва!J15+13 -> 54.208904 | K15: =Москва!K15+13 -> 53.25 | L15: =C15*280 -> 16594.375 | M15: =D15*280 -> 16417.692 | N15: =E15*280 -> 15918.824 | O15: =F15*280 -> 15762.174 | P15: =G15*280 -> 15610 | Q15: =H15*280 -> 15462.113 | R15: =I15*280 -> 15318.333 | S15: =J15*280 -> 15178.493 | T15: =K15*280 -> 14910
A16: Красноярск | B16: 2500 | C16: =Москва!C17+13 -> 53 | D16: =Москва!D17+13 -> 52.5 | E16: =Москва!E17+13 -> 52 | F16: =Москва!F17+13 -> 51.5 | G16: =Москва!G17+13 -> 51 | H16: =Москва!H17+13 -> 50.5 | I16: =Москва!I17+13 -> 50.5 | J16: =Москва!J17+13 -> 50 | K16: =Москва!K17+13 -> 49.5 | L16: =C16*280 -> 14840 | M16: =D16*280 -> 14700 | N16: =E16*280 -> 14560 | O16: =F16*280 -> 14420 | P16: =G16*280 -> 14280 | Q16: =H16*280 -> 14140 | R16: =I16*280 -> 14140 | S16: =J16*280 -> 14000 | T16: =K16*280 -> 13860
A17: Кызыл | B17: 3000 | C17: =Москва!C18+13 -> 70.323182 | D17: =Москва!D18+13 -> 68.417105 | E17: =Москва!E18+13 -> 66.640254 | F17: =Москва!F18+13 -> 65.79625 | G17: =Москва!G18+13 -> 64.979918 | H17: =Москва!H18+13 -> 64.189919 | I17: =Москва!I18+13 -> 63.425 | J17: =Москва!J18+13 -> 62.683984 | K17: =Москва!K18+13 -> 60.593657 | L17: =C17*280 -> 19690.491 | M17: =D17*280 -> 19156.789 | N17: =E17*280 -> 18659.271 | O17: =F17*280 -> 18422.95 | P17: =G17*280 -> 18194.377 | Q17: =H17*280 -> 17973.177 | R17: =I17*280 -> 17759 | S17: =J17*280 -> 17551.516 | T17: =K17*280 -> 16966.224
A18: Магнитогорск | B18: 1000 | C18: =Москва!C19+13 -> 36.475 | D18: =Москва!D19+13 -> 36.329787 | E18: =Москва!E19+13 -> 36.18662 | F18: =Москва!F19+13 -> 35.90625 | G18: =Москва!G19+13 -> 35.633562 | H18: =Москва!H19+13 -> 35.368243 | I18: =Москва!I19+13 -> 35.11 | J18: =Москва!J19+13 -> 34.613636 | K18: =Москва!K19+13 -> 33.915625 | L18: =C18*280 -> 10213 | M18: =D18*280 -> 10172.34 | N18: =E18*280 -> 10132.254 | O18: =F18*280 -> 10053.75 | P18: =G18*280 -> 9977.3973 | Q18: =H18*280 -> 9903.1081 | R18: =I18*280 -> 9830.8 | S18: =J18*280 -> 9691.8182 | T18: =K18*280 -> 9496.375
A19: Москва | B19: 850 | C19: 18.5 | D19: 17.5 | E19: 17 | F19: 16.5 | G19: 15.5 | H19: 15 | I19: 15 | J19: 15 | K19: 15 | L19: =C19*280 -> 5180 | M19: =D19*280 -> 4900 | N19: =E19*280 -> 4760 | O19: =F19*280 -> 4620 | P19: =G19*280 -> 4340 | Q19: =H19*280 -> 4200 | R19: =I19*280 -> 4200 | S19: =J19*280 -> 4200 | T19: =K19*280 -> 4200
A20: Мурманск | B20: 2500 | C20: =Москва!C20+13 -> 39.06465 | D20: =Москва!D20+13 -> 38.761609 | E20: =Москва!E20+13 -> 37.905961 | F20: =Москва!F20+13 -> 37.63728 | G20: =Москва!G20+13 -> 37.376275 | H20: =Москва!H20+13 -> 37.122622 | I20: =Москва!I20+13 -> 36.876016 | J20: =Москва!J20+13 -> 36.636165 | K20: =Москва!K20+13 -> 36.175653 | L20: =C20*280 -> 10938.102 | M20: =D20*280 -> 10853.25 | N20: =E20*280 -> 10613.669 | O20: =F20*280 -> 10538.438 | P20: =G20*280 -> 10465.357 | Q20: =H20*280 -> 10394.334 | R20: =I20*280 -> 10325.284 | S20: =J20*280 -> 10258.126 | T20: =K20*280 -> 10129.183
A21: Нижний Новгород | B21: 850 | C21: 20.19473 | D21: 19.808326 | E21: 19.239975 | F21: 18.671624 | G21: 18.581589 | H21: 18.105149 | I21: 17.783046 | J21: 17.467385 | K21: 17.158038 | L21: =C21*280 -> 5654.5243 | M21: =D21*280 -> 5546.3313 | N21: =E21*280 -> 5387.1931 | O21: =F21*280 -> 5228.0548 | P21: =G21*280 -> 5202.8448 | Q21: =H21*280 -> 5069.4418 | R21: =I21*280 -> 4979.253 | S21: =J21*280 -> 4890.8679 | T21: =K21*280 -> 4804.2505
A22: Новосибирск | B22: 2000 | C22: =Москва!C22+13 -> 48 | D22: =Москва!D22+13 -> 47.8 | E22: =Москва!E22+13 -> 47.7 | F22: =Москва!F22+13 -> 47.2 | G22: =Москва!G22+13 -> 46.6 | H22: =Москва!H22+13 -> 46.5 | I22: =Москва!I22+13 -> 46.3 | J22: =Москва!J22+13 -> 46 | K22: =Москва!K22+13 -> 46 | L22: =C22*280 -> 13440 | M22: =D22*280 -> 13384 | N22: =E22*280 -> 13356 | O22: =F22*280 -> 13216 | P22: =G22*280 -> 13048 | Q22: =H22*280 -> 13020 | R22: =I22*280 -> 12964 | S22: =J22*280 -> 12880 | T22: =K22*280 -> 12880
A23: Петрозаводск | B23: 2500 | C23: =Москва!C23+13 -> 35 | D23: =Москва!D23+13 -> 34.3 | E23: =Москва!E23+13 -> 34.2 | F23: =Москва!F23+13 -> 34 | G23: =Москва!G23+13 -> 33.5 | H23: =Москва!H23+13 -> 33.3 | I23: =Москва!I23+13 -> 33 | J23: =Москва!J23+13 -> 33 | K23: =Москва!K23+13 -> 33 | L23: =C23*280 -> 9800 | M23: =D23*280 -> 9604 | N23: =E23*280 -> 9576 | O23: =F23*280 -> 9520 | P23: =G23*280 -> 9380 | Q23: =H23*280 -> 9324 | R23: =I23*280 -> 9240 | S23: =J23*280 -> 9240 | T23: =K23*280 -> 9240
A24: Ростов-на-Дону | B24: 600 | C24: 11 | D24: 11 | E24: 11 | F24: 11 | G24: 11 | H24: 11 | I24: 11 | J24: 11 | K24: 11 | L24: =C24*280 -> 3080 | M24: =D24*280 -> 3080 | N24: =E24*280 -> 3080 | O24: =F24*280 -> 3080 | P24: =G24*280 -> 3080 | Q24: =H24*280 -> 3080 | R24: =I24*280 -> 3080 | S24: =J24*280 -> 3080 | T24: =K24*280 -> 3080
A25: Самара | B25: 900 | C25: 23.489064 | D25: 23.427829 | E25: 23.164566 | F25: 23.123276 | G25: 22.818723 | H25: 23.259432 | I25: 22.824243 | J25: 22.397758 | K25: 21.979803 | L25: =C25*280 -> 6576.938 | M25: =D25*280 -> 6559.7921 | N25: =E25*280 -> 6486.0785 | O25: =F25*280 -> 6474.5172 | P25: =G25*280 -> 6389.2423 | Q25: =H25*280 -> 6512.6409 | R25: =I25*280 -> 6390.788 | S25: =J25*280 -> 6271.3723 | T25: =K25*280 -> 6154.3448
A26: Санкт-Петербург | B26: 850 | C26: 21.264432 | D26: 20.913668 | E26: 20.626975 | F26: 20.244435 | G26: 19.985507 | H26: 19.83215 | I26: 19.560824 | J26: 19.43106 | K26: 19.324889 | L26: =C26*280 -> 5954.041 | M26: =D26*280 -> 5855.827 | N26: =E26*280 -> 5775.553 | O26: =F26*280 -> 5668.4419 | P26: =G26*280 -> 5595.942 | Q26: =H26*280 -> 5553.0019 | R26: =I26*280 -> 5477.0308 | S26: =J26*280 -> 5440.6968 | T26: =K26*280 -> 5410.969
A27: Саратов | B27: 2500 | C27: =Москва!C27+13 -> 33.5 | D27: =Москва!D27+13 -> 33.5 | E27: =Москва!E27+13 -> 32.6 | F27: =Москва!F27+13 -> 32.4 | G27: =Москва!G27+13 -> 32.2 | H27: =Москва!H27+13 -> 32 | I27: =Москва!I27+13 -> 31.7 | J27: =Москва!J27+13 -> 31.5 | K27: =Москва!K27+13 -> 31.5 | L27: =C27*280 -> 9380 | M27: =D27*280 -> 9380 | N27: =E27*280 -> 9128 | O27: =F27*280 -> 9072 | P27: =G27*280 -> 9016 | Q27: =H27*280 -> 8960 | R27: =I27*280 -> 8876 | S27: =J27*280 -> 8820 | T27: =K27*280 -> 8820
A28: =Москва!A28 -> Тарифы с учетом доставки до адреса:
A29: Абинск | B29: 4000 | C29: 24 | D29: 24 | E29: 24 | F29: 24 | G29: 24 | H29: 24 | I29: 24 | J29: 24 | K29: 24 | L29: =C29*280 -> 6720 | M29: =D29*280 -> 6720 | N29: =E29*280 -> 6720 | O29: =F29*280 -> 6720 | P29: =G29*280 -> 6720 | Q29: =H29*280 -> 6720 | R29: =I29*280 -> 6720 | S29: =J29*280 -> 6720 | T29: =K29*280 -> 6720
A30: Адлер | B30: 5000 | C30: 30 | D30: 30 | E30: 30 | F30: 30 | G30: 30 | H30: 30 | I30: 30 | J30: 30 | K30: 30 | L30: =C30*280 -> 8400 | M30: =D30*280 -> 8400 | N30: =E30*280 -> 8400 | O30: =F30*280 -> 8400 | P30: =G30*280 -> 8400 | Q30: =H30*280 -> 8400 | R30: =I30*280 -> 8400 | S30: =J30*280 -> 8400 | T30: =K30*280 -> 8400
A31: Анапа | B31: 4000 | C31: 24 | D31: 24 | E31: 24 | F31: 24 | G31: 24 | H31: 24 | I31: 24 | J31: 24 | K31: 24 | L31: =C31*280 -> 6720 | M31: =D31*280 -> 6720 | N31: =E31*280 -> 6720 | O31: =F31*280 -> 6720 | P31: =G31*280 -> 6720 | Q31: =H31*280 -> 6720 | R31: =I31*280 -> 6720 | S31: =J31*280 -> 6720 | T31: =K31*280 -> 6720
A32: Геленджик | B32: 3500 | C32: 24 | D32: 24 | E32: 24 | F32: 24 | G32: 24 | H32: 24 | I32: 24 | J32: 24 | K32: 24 | L32: =C32*280 -> 6720 | M32: =D32*280 -> 6720 | N32: =E32*280 -> 6720 | O32: =F32*280 -> 6720 | P32: =G32*280 -> 6720 | Q32: =H32*280 -> 6720 | R32: =I32*280 -> 6720 | S32: =J32*280 -> 6720 | T32: =K32*280 -> 6720
A33: Красная поляна | B33: 8000 | C33: 45 | D33: 45 | E33: 45 | F33: 45 | G33: 45 | H33: 45 | I33: 45 | J33: 45 | K33: 45 | L33: =C33*280 -> 12600 | M33: =D33*280 -> 12600 | N33: =E33*280 -> 12600 | O33: =F33*280 -> 12600 | P33: =G33*280 -> 12600 | Q33: =H33*280 -> 12600 | R33: =I33*280 -> 12600 | S33: =J33*280 -> 12600 | T33: =K33*280 -> 12600
A34: Кропоткин | B34: 7000 | C34: 30 | D34: 30 | E34: 30 | F34: 30 | G34: 30 | H34: 30 | I34: 30 | J34: 30 | K34: 30 | L34: =C34*280 -> 8400 | M34: =D34*280 -> 8400 | N34: =E34*280 -> 8400 | O34: =F34*280 -> 8400 | P34: =G34*280 -> 8400 | Q34: =H34*280 -> 8400 | R34: =I34*280 -> 8400 | S34: =J34*280 -> 8400 | T34: =K34*280 -> 8400
A35: Крымск | B35: 4000 | C35: 24 | D35: 24 | E35: 24 | F35: 24 | G35: 24 | H35: 24 | I35: 24 | J35: 24 | K35: 24 | L35: =C35*280 -> 6720 | M35: =D35*280 -> 6720 | N35: =E35*280 -> 6720 | O35: =F35*280 -> 6720 | P35: =G35*280 -> 6720 | Q35: =H35*280 -> 6720 | R35: =I35*280 -> 6720 | S35: =J35*280 -> 6720 | T35: =K35*280 -> 6720
A36: Новороссийск | B36: 4000 | C36: 24 | D36: 24 | E36: 24 | F36: 24 | G36: 24 | H36: 24 | I36: 24 | J36: 24 | K36: 24 | L36: =C36*280 -> 6720 | M36: =D36*280 -> 6720 | N36: =E36*280 -> 6720 | O36: =F36*280 -> 6720 | P36: =G36*280 -> 6720 | Q36: =H36*280 -> 6720 | R36: =I36*280 -> 6720 | S36: =J36*280 -> 6720 | T36: =K36*280 -> 6720
A37: Сочи | B37: 4500 | C37: 28 | D37: 28 | E37: 28 | F37: 28 | G37: 28 | H37: 28 | I37: 28 | J37: 28 | K37: 28 | L37: =C37*280 -> 7840 | M37: =D37*280 -> 7840 | N37: =E37*280 -> 7840 | O37: =F37*280 -> 7840 | P37: =G37*280 -> 7840 | Q37: =H37*280 -> 7840 | R37: =I37*280 -> 7840 | S37: =J37*280 -> 7840 | T37: =K37*280 -> 7840
A38: =Москва!A38 -> Цены действительны с 10.09.2026 г.
A40: Дополнительные услуги
A41: - доставка корреспонденции (не более 3 кг) 250 руб.
A42: - мягкая упаковка - 500 руб. за 1м3 (минимальная ст-ть - 250 руб.)
A43: - обрешетка - 1900 руб. за 1 м3 (минимальная ст-ть 1000 руб.) При заказе услуги объем груза увеличивается на 30%, вес из расчета +35 кг за каждый 1 м3 (минимум 15 кг)
A44: - паллетирование - 750 руб. за 1м3 (минимальная ст-ть - 450 руб.)
A45: ИНФОРМАЦИЯ
A46: - при сдаче груза необходимо приложить накладную, счет-фактуру, сертификаты (по необх.), доверенность; указанные документы
A47: необходимы для транспортировки груза по территории России и получателю не передаются!
A48: - возможна любая форма оплаты;
A49: - Если вес одного места превышает 500 кг, 1000 кг, 2000 кг, тариф увеличивается на 25%, 30%, 50% соответственно.
A50: - Если длина одного из измерений превышает 3м, 5м, 6м, 9м, тариф увеличивается на 20%, 30%, 50%, 100% соответственно.
A51: - Бесплатное хранение перевозимого груза на складе составляет 3 дня.
A53: Стоимость доставки/забора груза по городу Краснодар
A54: Вес (кг) | C54: 1 - 100 кг | D54: 101 - 200 кг | E54: 201 - 400 кг | F54: 401 - 600 кг | G54: 601 - 800 кг | H54: 801 - 1000 кг | I54: 1001 - 1200 кг | J54: 1201 - 1500 кг | K54: 1501 - 2000 кг | L54: 2001 - 3000 кг | M54: 3001 - 5000 кг | N54: 5001 - 7000 кг | O54: 7001 - 10000 кг
A55: Объем (м/куб) | C55: 0,1 - 0,4 м³ | D55: 0,5 - 0,8 м³ | E55: 0,5 - 2 м³ | F55: 2,1 - 3 м³ | G55: 3,1 - 4м³ | H55: 4,1 - 5 м³ | I55: 5,1 - 6 м³ | J55: 6,1 - 8 м³ | K55: 8,1 - 11 м³ | L55: 11,1 - 16 м³ | M55: 16,1 - 25 м³ | N55: 25,1 - 35 м³ | O55: 35,1 - 40 м³
A56: Стоимость доставки (руб) | C56: 1200 | D56: 1300 | E56: 1600 | F56: 1700 | G56: 2000 | H56: 3000 | I56: 3500 | J56: 4000 | K56: 5000 | L56: 7200 | M56: 9400 | N56: 14300 | O56: 16500
A57: Стоимость а/м по области (руб/км) | C57: 30 | D57: 30 | E57: 30 | F57: 30 | G57: 30 | H57: 33 | I57: 33 | J57: 33 | K57: 38 | L57: 38 | M57: 55 | N57: 60 | O57: 60
A58: Максимальная длина груза (м) | C58: 2 | D58: 3 | E58: 3 | F58: 3 | G58: 3 | H58: 3 | I58: 3 | J58: 3 | K58: 4 | L58: 4 | M58: 5 | N58: 6 | O58: 6
A59: Максимальная ширина груза (м) | C59: 1.5 | D59: 1.5 | E59: 1.5 | F59: 1.5 | G59: 1.8 | H59: 1.8 | I59: 1.8 | J59: 1.8 | K59: 1.95 | L59: 1.95 | M59: 2 | N59: 2.1 | O59: 2.1
A60: Максимальная высота шруза (м) | C60: 1.5 | D60: 1.5 | E60: 1.5 | F60: 1.5 | G60: 1.7 | H60: 1.7 | I60: 1.7 | J60: 1.7 | K60: 1.7 | L60: 1.9 | M60: 2.1 | N60: 2.2 | O60: 2.2
A61: Количество евро-паллет 0,8х1,2 (шт) | C61: 1 | D61: 1 | E61: 2 | F61: 2 | G61: 3 | H61: 3 | I61: 4 | J61: 4 | K61: 6 | L61: 6 | M61: 6 | N61: 10 | O61: 12
A62: Стоимость простоя (руб/час) | C62: 1100 | D62: 1100 | E62: 1100 | F62: 1100 | G62: 1100 | H62: 1100 | I62: 1100 | J62: 1100 | K62: 2200 | L62: 2200 | M62: 2200 | N62: 3300 | O62: 3300
A63: Время погрузки/разгрузки,ч | C63: 0.5 | D63: 0.5 | E63: 0.5 | F63: 1 | G63: 1 | H63: 1 | I63: 1 | J63: 1 | K63: 1 | L63: 1 | M63: 1.5 | N63: 2 | O63: 2
A65: 1) Дополнительная услуга оказывается на основании заявки, которую необходимо заполнить на сайте nevatk.ru (заявки принятые с 09-00 до 16-30 выполняются
A66: на следующий день, после 16-30 через день)
A67: 2) Тарифы действительны при задней погрузке и доставке/получении груза в рабочее время, в четырехчасовой интервал, согласованный с отправителем/получателем иначе считается как подача машины ко времени - 1000 р.
A68: 3) При подаче машины в нерабочее время (с18-00 до 21-00 и с 7-00 до 9-00)-стандартный тариф + 2000 рублей. При подаче машины в ночное время(с 21-00 до 7-00) стоимость доставки договорная.
A69: 4) При выезде за черту города каждый километр пути туда/обратно оплачивается согласно тарифа .
A70: 5) Водитель-экспедитор НЕ ЗАНИМАЕТСЯ погрузо-разгрузочными работами.
A71: 6) Погрузо-разгрузочные работы на складе клиента оговариваются заранее! Стоимость услуги - 3,5руб,/кг,700руб/м3 Минимальная стоимость 500 р. (вес одного места
A72: не более 25 кг/0,2 м.куб, уровень первого этажа и не дальше 10 метров от автомобиля). Расчёт подъёма на этаж по лестнице осуществляется по
A73: формуле-вес/объём Х 3,5/700руб+вес/объём Х количество этажей
A74: 7) Стоимость не полного часа предоставления автомобиля под погрузку/разгрузку свыше установленного времени, рассчитывается как за целый час оказания услуг,
A75: согласно действующего тарифа (В нормативное время помимо погрузки/выгрузки входит оформление экспедитором документов)
A76: 8) При подаче машины с растентовкой или открытой машины , стоимость экспедирования оговаривается заранее.
... A79: Наши адреса:
A80: Санкт-Петербург: | I80: Самара:
A81: Партизанская ул., д.25 т.(812) 635-70-93, 635-70-94, 380-05-79 | I81: проезд Мальцева д.4 т. (846) 279-10-12
A82: 78@nevatk.ru | I82: 63@nevatk.ru
A84: Москва: | I84: Воронеж:
A85: 1) Московская обл., г. Мытищи, Олимпийский проспект, дом 40, корпус 3 | I85: ул. Димитрова, д.140А т. (473) 263-53-03, 263-53-23, 263-53-43
A86: 2) 1-й Котляковский переулок д.4 А т. (800) 777-19-35 | I86: 36@nevatk.ru
A87: 77@nevatk.ru
I88: Казань:
A89: Ростов-на-Дону: | I89: ул. 2-я Тихорецкая, д.39 (склад № 3) (800) 777-19-35
A90: Ростов-на-Дону, ул. Пескова, 3 т. (863) 299-80-92, 299-83-57 | I90: 116@nevatk.ru
A91: 61@nevatk.ru
A92: Волгоград: | I92: Нижний Новгород:
A93: Бетонная ул.. Д.9 т. (8442) 98-12-57, 98-12-67 | I93: ул. Кузбасская 15А т. (831) 429-06-31
A94: 34@nevatk.ru | I94: 52@nevatk.ru
A96: Краснодар: | I96: Саратов:
A97: улица Евдокии Бершанской, 359 т. (861) 210-91-46, 210-91-47 | I97: ул. Танкистов, 84 | K97: т. (902) 043-96-98, (965) 882-87-04
A98: 23@nevatk.ru | I98: 64@nevatk.ru

Sheet Нижний Новгород
A2: ЭКСПЕДИЦИЯ ПЛЮС | E2: Терминал: Нижний Новгород ул. Кузбасская 15А | N2: 8-800-777-19-35 | Q2: nevatk.ru
B5: тарифы из г.Нижний Новгород | U5: онлайн калькулятор
B6: Минимаьная стоимость | C6: 1 - 100 кг | D6: 101 - 300 кг | E6: 301 - 500 кг | F6: 501 - 800 кг | G6: 801 - 1500 кг | H6: 1501 - 2000 кг | I6: 2001 - 3000 кг | J6: 3001 - 5000 кг | K6: от 5001 кг | L6: 0,1 - 0,4 м³ | M6: 0,5 - 1,2 м³ | N6: 1,3 - 2 м³ | O6: 2,1 - 3,2 м³ | P6: 3,3 - 6 м³ | Q6: 6,1 - 8 м³ | R6: 8,1 - 12 м³ | S6: 12 - 20 м³ | T6: от 20,1 м³
A8: Абакан | B8: 2500 | C8: 50.0625 | D8: 49.461538 | E8: 47.764706 | F8: 47.231884 | G8: 46.714286 | H8: 46.211268 | I8: 45.722222 | J8: 45.246575 | K8: 44.333333 | L8: =C8*280 -> 14017.5 | M8: =D8*280 -> 13849.231 | N8: =E8*280 -> 13374.118 | O8: =F8*280 -> 13224.928 | P8: =G8*280 -> 13080 | Q8: =H8*280 -> 12939.155 | R8: =I8*280 -> 12802.222 | S8: =J8*280 -> 12669.041 | T8: =K8*280 -> 12413.333
A9: Архангельск | B9: 2500 | C9: 39.5 | D9: 39 | E9: 38.5 | F9: 38.1 | G9: 38 | H9: 37.8 | I9: 37.5 | J9: 37.1 | K9: 36.5 | L9: =C9*280 -> 11060 | M9: =D9*280 -> 10920 | N9: =E9*280 -> 10780 | O9: =F9*280 -> 10668 | P9: =G9*280 -> 10640 | Q9: =H9*280 -> 10584 | R9: =I9*280 -> 10500 | S9: =J9*280 -> 10388 | T9: =K9*280 -> 10220
A10: Волгоград | B10: 850 | C10: 21.940883 | D10: 21.671278 | E10: 21.349501 | F10: 20.985754 | G10: 20.719939 | H10: 20.412152 | I10: 20.076386 | J10: 19.922493 | K10: 19.698648 | L10: =C10*280 -> 6143.4471 | M10: =D10*280 -> 6067.9578 | N10: =E10*280 -> 5977.8604 | O10: =F10*280 -> 5876.0111 | P10: =G10*280 -> 5801.5828 | Q10: =H10*280 -> 5715.4027 | R10: =I10*280 -> 5621.388 | S10: =J10*280 -> 5578.2979 | T10: =K10*280 -> 5515.6214
A11: Воронеж | B11: 850 | C11: 19.406979 | D11: 18.909637 | E11: 18.69411 | F11: 17.5 | G11: 17.5 | H11: 17 | I11: 17 | J11: 16.5 | K11: 16.5 | L11: =C11*280 -> 5433.9543 | M11: =D11*280 -> 5294.6984 | N11: =E11*280 -> 5234.3508 | O11: =F11*280 -> 4900 | P11: =G11*280 -> 4900 | Q11: =H11*280 -> 4760 | R11: =I11*280 -> 4760 | S11: =J11*280 -> 4620 | T11: =K11*280 -> 4620
A12: Екатеринбург | B12: 2500 | C12: 35.8 | D12: 35.5 | E12: 35 | F12: 34.9 | G12: 34.6 | H12: 34.5 | I12: 34.35 | J12: 34.1 | K12: 34 | L12: =C12*280 -> 10024 | M12: =D12*280 -> 9940 | N12: =E12*280 -> 9800 | O12: =F12*280 -> 9772 | P12: =G12*280 -> 9688 | Q12: =H12*280 -> 9660 | R12: =I12*280 -> 9618 | S12: =J12*280 -> 9548 | T12: =K12*280 -> 9520
A13: Иркутск | B13: 2500 | C13: 52.5 | D13: 52.02 | E13: 51.38 | F13: 49.6 | G13: 49.04 | H13: 48.5 | I13: 47.97 | J13: 47.46 | K13: 46.96 | L13: =C13*280 -> 14700 | M13: =D13*280 -> 14565.6 | N13: =E13*280 -> 14386.4 | O13: =F13*280 -> 13888 | P13: =G13*280 -> 13731.2 | Q13: =H13*280 -> 13580 | R13: =I13*280 -> 13431.6 | S13: =J13*280 -> 13288.8 | T13: =K13*280 -> 13148.8
A14: Казань | B14: 850 | C14: 13.176341 | D14: 13.569047 | E14: 13.305521 | F14: 12.7733 | G14: 12.597615 | H14: 12.277249 | I14: 12.277249 | J14: 12.021473 | K14: 11.540614 | L14: =C14*280 -> 3689.3754 | M14: =D14*280 -> 3799.3332 | N14: =E14*280 -> 3725.5457 | O14: =F14*280 -> 3576.5239 | P14: =G14*280 -> 3527.3322 | Q14: =H14*280 -> 3437.6298 | R14: =I14*280 -> 3437.6298 | S14: =J14*280 -> 3366.0125 | T14: =K14*280 -> 3231.372
A15: Калининград (паром) | B15: 3000 | C15: 56.265625 | D15: 55.634615 | E15: 53.852941 | F15: 53.293478 | G15: 52.75 | H15: 52.221831 | I15: 51.708333 | J15: 51.208904 | K15: 50.25 | L15: =C15*280 -> 15754.375 | M15: =D15*280 -> 15577.692 | N15: =E15*280 -> 15078.824 | O15: =F15*280 -> 14922.174 | P15: =G15*280 -> 14770 | Q15: =H15*280 -> 14622.113 | R15: =I15*280 -> 14478.333 | S15: =J15*280 -> 14338.493 | T15: =K15*280 -> 14070
A16: Краснодар | B16: 850 | C16: 23.648833 | D16: 23.293304 | E16: 22.704161 | F16: 22.165516 | G16: 21.845696 | H16: 21.525875 | I16: 21.256553 | J16: 20.869402 | K16: 20.60008 | L16: =C16*280 -> 6621.6731 | M16: =D16*280 -> 6522.1251 | N16: =E16*280 -> 6357.1651 | O16: =F16*280 -> 6206.3445 | P16: =G16*280 -> 6116.7948 | Q16: =H16*280 -> 6027.2451 | R16: =I16*280 -> 5951.8349 | S16: =J16*280 -> 5843.4326 | T16: =K16*280 -> 5768.0223
A17: Красноярск | B17: 2500 | C17: 50 | D17: 49.5 | E17: 49 | F17: 48.5 | G17: 48 | H17: 47.5 | I17: 47.5 | J17: 47 | K17: 46.5 | L17: =C17*280 -> 14000 | M17: =D17*280 -> 13860 | N17: =E17*280 -> 13720 | O17: =F17*280 -> 13580 | P17: =G17*280 -> 13440 | Q17: =H17*280 -> 13300 | R17: =I17*280 -> 13300 | S17: =J17*280 -> 13160 | T17: =K17*280 -> 13020
A18: Кызыл | B18: 3000 | C18: 67.323182 | D18: 65.417105 | E18: 63.640254 | F18: 62.79625 | G18: 61.979918 | H18: 61.189919 | I18: 60.425 | J18: 59.683984 | K18: 57.593657 | L18: =C18*280 -> 18850.491 | M18: =D18*280 -> 18316.789 | N18: =E18*280 -> 17819.271 | O18: =F18*280 -> 17582.95 | P18: =G18*280 -> 17354.377 | Q18: =H18*280 -> 17133.177 | R18: =I18*280 -> 16919 | S18: =J18*280 -> 16711.516 | T18: =K18*280 -> 16126.224
A19: Магнитогорск | B19: 1000 | C19: 33.475 | D19: 33.329787 | E19: 33.18662 | F19: 32.90625 | G19: 32.633562 | H19: 32.368243 | I19: 32.11 | J19: 31.613636 | K19: 30.915625 | L19: =C19*280 -> 9373 | M19: =D19*280 -> 9332.3404 | N19: =E19*280 -> 9292.2535 | O19: =F19*280 -> 9213.75 | P19: =G19*280 -> 9137.3973 | Q19: =H19*280 -> 9063.1081 | R19: =I19*280 -> 8990.8 | S19: =J19*280 -> 8851.8182 | T19: =K19*280 -> 8656.375
... A27: Саратов | B27: 2500 | C27: 30.5 | D27: 30.5 | E27: 29.6 | F27: 29.4 | G27: 29.2 | H27: 29 | I27: 28.7 | J27: 28.5 | K27: 28.5 | L27: =C27*280 -> 8540 | M27: =D27*280 -> 8540 | N27: =E27*280 -> 8288 | O27: =F27*280 -> 8232 | P27: =G27*280 -> 8176 | Q27: =H27*280 -> 8120 | R27: =I27*280 -> 8036 | S27: =J27*280 -> 7980 | T27: =K27*280 -> 7980
A28: =Москва!A28 -> Тарифы с учетом доставки до адреса:
A29: Абинск | B29: 5000 | C29: 45.648833 | D29: 45.293304 | E29: 44.704161 | F29: 44.165516 | G29: 43.845696 | H29: 43.525875 | I29: 43.256553 | J29: 42.869402 | K29: 42.60008 | L29: =C29*280 -> 12781.673 | M29: =D29*280 -> 12682.125 | N29: =E29*280 -> 12517.165 | O29: =F29*280 -> 12366.345 | P29: =G29*280 -> 12276.795 | Q29: =H29*280 -> 12187.245 | R29: =I29*280 -> 12111.835 | S29: =J29*280 -> 12003.433 | T29: =K29*280 -> 11928.022
A30: Адлер | B30: 6000 | C30: 51.648833 | D30: 51.293304 | E30: 50.704161 | F30: 50.165516 | G30: 49.845696 | H30: 49.525875 | I30: 49.256553 | J30: 48.869402 | K30: 48.60008 | L30: =C30*280 -> 14461.673 | M30: =D30*280 -> 14362.125 | N30: =E30*280 -> 14197.165 | O30: =F30*280 -> 14046.345 | P30: =G30*280 -> 13956.795 | Q30: =H30*280 -> 13867.245 | R30: =I30*280 -> 13791.835 | S30: =J30*280 -> 13683.433 | T30: =K30*280 -> 13608.022
A31: Анапа | B31: 5000 | C31: 45.648833 | D31: 45.293304 | E31: 44.704161 | F31: 44.165516 | G31: 43.845696 | H31: 43.525875 | I31: 43.256553 | J31: 42.869402 | K31: 42.60008 | L31: =C31*280 -> 12781.673 | M31: =D31*280 -> 12682.125 | N31: =E31*280 -> 12517.165 | O31: =F31*280 -> 12366.345 | P31: =G31*280 -> 12276.795 | Q31: =H31*280 -> 12187.245 | R31: =I31*280 -> 12111.835 | S31: =J31*280 -> 12003.433 | T31: =K31*280 -> 11928.022
A32: Геленджик | B32: 5000 | C32: 45.648833 | D32: 45.293304 | E32: 44.704161 | F32: 44.165516 | G32: 43.845696 | H32: 43.525875 | I32: 43.256553 | J32: 42.869402 | K32: 42.60008 | L32: =C32*280 -> 12781.673 | M32: =D32*280 -> 12682.125 | N32: =E32*280 -> 12517.165 | O32: =F32*280 -> 12366.345 | P32: =G32*280 -> 12276.795 | Q32: =H32*280 -> 12187.245 | R32: =I32*280 -> 12111.835 | S32: =J32*280 -> 12003.433 | T32: =K32*280 -> 11928.022
A33: Красная поляна | B33: 7000 | C33: 66.648833 | D33: 66.293304 | E33: 65.704161 | F33: 65.165516 | G33: 64.845696 | H33: 64.525875 | I33: 64.256553 | J33: 63.869402 | K33: 63.60008 | L33: =C33*280 -> 18661.673 | M33: =D33*280 -> 18562.125 | N33: =E33*280 -> 18397.165 | O33: =F33*280 -> 18246.345 | P33: =G33*280 -> 18156.795 | Q33: =H33*280 -> 18067.245 | R33: =I33*280 -> 17991.835 | S33: =J33*280 -> 17883.433 | T33: =K33*280 -> 17808.022
A34: Кропоткин | B34: 8000 | C34: 51.648833 | D34: 51.293304 | E34: 50.704161 | F34: 50.165516 | G34: 49.845696 | H34: 49.525875 | I34: 49.256553 | J34: 48.869402 | K34: 48.60008 | L34: =C34*280 -> 14461.673 | M34: =D34*280 -> 14362.125 | N34: =E34*280 -> 14197.165 | O34: =F34*280 -> 14046.345 | P34: =G34*280 -> 13956.795 | Q34: =H34*280 -> 13867.245 | R34: =I34*280 -> 13791.835 | S34: =J34*280 -> 13683.433 | T34: =K34*280 -> 13608.022
A35: Крымск | B35: 5000 | C35: 45.648833 | D35: 45.293304 | E35: 44.704161 | F35: 44.165516 | G35: 43.845696 | H35: 43.525875 | I35: 43.256553 | J35: 42.869402 | K35: 42.60008 | L35: =C35*280 -> 12781.673 | M35: =D35*280 -> 12682.125 | N35: =E35*280 -> 12517.165 | O35: =F35*280 -> 12366.345 | P35: =G35*280 -> 12276.795 | Q35: =H35*280 -> 12187.245 | R35: =I35*280 -> 12111.835 | S35: =J35*280 -> 12003.433 | T35: =K35*280 -> 11928.022
A36: Новороссийск | B36: 5000 | C36: 45.648833 | D36: 45.293304 | E36: 44.704161 | F36: 44.165516 | G36: 43.845696 | H36: 43.525875 | I36: 43.256553 | J36: 42.869402 | K36: 42.60008 | L36: =C36*280 -> 12781.673 | M36: =D36*280 -> 12682.125 | N36: =E36*280 -> 12517.165 | O36: =F36*280 -> 12366.345 | P36: =G36*280 -> 12276.795 | Q36: =H36*280 -> 12187.245 | R36: =I36*280 -> 12111.835 | S36: =J36*280 -> 12003.433 | T36: =K36*280 -> 11928.022
A37: Сочи | B37: 5500 | C37: 49.648833 | D37: 49.293304 | E37: 48.704161 | F37: 48.165516 | G37: 47.845696 | H37: 47.525875 | I37: 47.256553 | J37: 46.869402 | K37: 46.60008 | L37: =C37*280 -> 13901.673 | M37: =D37*280 -> 13802.125 | N37: =E37*280 -> 13637.165 | O37: =F37*280 -> 13486.345 | P37: =G37*280 -> 13396.795 | Q37: =H37*280 -> 13307.245 | R37: =I37*280 -> 13231.835 | S37: =J37*280 -> 13123.433 | T37: =K37*280 -> 13048.022
A38: =Москва!A38 -> Цены действительны с 10.09.2026 г.
A40: Дополнительные услуги
A41: - доставка корреспонденции (не более 3 кг) 250 руб.
A42: - мягкая упаковка - 500 руб. за 1м3 (минимальная ст-ть - 250 руб.)
A43: - обрешетка - 1900 руб. за 1 м3 (минимальная ст-ть 1000 руб.) При заказе услуги объем груза увеличивается на 30%, вес из расчета +35 кг за каждый 1 м3 (минимум 15 кг)
A44: - паллетирование - 750 руб. за 1м3 (минимальная ст-ть - 450 руб.)
A45: ИНФОРМАЦИЯ
A46: - при сдаче груза необходимо приложить накладную, счет-фактуру, сертификаты (по необх.), доверенность; указанные документы
A47: необходимы для транспортировки груза по территории России и получателю не передаются!
A48: - возможна любая форма оплаты;
A49: - Если вес одного места превышает 500 кг, 1000 кг, 2000 кг, тариф увеличивается на 25%, 30%, 50% соответственно.
A50: - Если длина одного из измерений превышает 3м, 5м, 6м, 9м, тариф увеличивается на 20%, 30%, 50%, 100% соответственно.
A51: - Бесплатное хранение перевозимого груза на складе составляет 3 дня.
A53: Стоимость доставки/забора груза по городу Нижний Новгород
A54: Вес (кг) | C54: 1 - 100 кг | D54: 101 - 200 кг | E54: 201 - 400 кг | F54: 401 - 600 кг | G54: 601 - 800 кг | H54: 801 - 1000 кг | I54: 1001 - 1200 кг | J54: 1201 - 1500 кг | K54: 1501 - 2000 кг | L54: 2001 - 3000 кг | M54: 3001 - 5000 кг | N54: 5001 - 7000 кг | O54: 7001 - 10000 кг
A55: Объем (м/куб) | C55: 0,1 - 0,4 м³ | D55: 0,5 - 0,8 м³ | E55: 0,5 - 2 м³ | F55: 2,1 - 3 м³ | G55: 3,1 - 4м³ | H55: 4,1 - 5 м³ | I55: 5,1 - 6 м³ | J55: 6,1 - 8 м³ | K55: 8,1 - 11 м³ | L55: 11,1 - 16 м³ | M55: 16,1 - 25 м³ | N55: 25,1 - 35 м³ | O55: 35,1 - 40 м³
A56: Стоимость доставки (руб) | C56: 950 | D56: 1100 | E56: 1430 | F56: 1650 | G56: 1870 | H56: 2200 | I56: 2530 | J56: 2860 | K56: 3520 | L56: 6380 | M56: 8140 | N56: 14300 | O56: 16500
A57: Стоимость а/м по области (руб/км) | C57: 30 | D57: 30 | E57: 30 | F57: 30 | G57: 30 | H57: 33 | I57: 33 | J57: 33 | K57: 38 | L57: 38 | M57: 55 | N57: 60 | O57: 60
A58: Максимальная длина груза (м) | C58: 2 | D58: 3 | E58: 3 | F58: 3 | G58: 3 | H58: 3 | I58: 3 | J58: 3 | K58: 4 | L58: 4 | M58: 5 | N58: 6 | O58: 6
A59: Максимальная ширина груза (м) | C59: 1.5 | D59: 1.5 | E59: 1.5 | F59: 1.5 | G59: 1.8 | H59: 1.8 | I59: 1.8 | J59: 1.8 | K59: 1.95 | L59: 1.95 | M59: 2 | N59: 2.1 | O59: 2.1
A60: Максимальная высота шруза (м) | C60: 1.5 | D60: 1.5 | E60: 1.5 | F60: 1.5 | G60: 1.7 | H60: 1.7 | I60: 1.7 | J60: 1.7 | K60: 1.7 | L60: 1.9 | M60: 2.1 | N60: 2.2 | O60: 2.2
A61: Количество евро-паллет 0,8х1,2 (шт) | C61: 1 | D61: 1 | E61: 2 | F61: 2 | G61: 3 | H61: 3 | I61: 4 | J61: 4 | K61: 6 | L61: 6 | M61: 6 | N61: 10 | O61: 12
A62: Стоимость простоя (руб/час) | C62: 1100 | D62: 1100 | E62: 1100 | F62: 1100 | G62: 1100 | H62: 1100 | I62: 1100 | J62: 1100 | K62: 2200 | L62: 2200 | M62: 2200 | N62: 3300 | O62: 3300
A63: Время погрузки/разгрузки,ч | C63: 0.5 | D63: 0.5 | E63: 0.5 | F63: 1 | G63: 1 | H63: 1 | I63: 1 | J63: 1 | K63: 1 | L63: 1 | M63: 1.5 | N63: 2 | O63: 2
A65: 1) Дополнительная услуга оказывается на основании заявки, которую необходимо заполнить на сайте nevatk.ru (заявки принятые с 09-00 до 16-30 выполняются
A66: на следующий день, после 16-30 через день)
A67: 2) Тарифы действительны при задней погрузке и доставке/получении груза в рабочее время, в четырехчасовой интервал, согласованный с отправителем/получателем иначе считается как подача машины ко времени - 1000 р.
A68: 3) При подаче машины в нерабочее время (с18-00 до 21-00 и с 7-00 до 9-00)-стандартный тариф + 2000 рублей. При подаче машины в ночное время(с 21-00 до 7-00) стоимость доставки договорная.
A69: 4) При выезде за черту города каждый километр пути туда/обратно оплачивается согласно тарифа .
A70: 5) Водитель-экспедитор НЕ ЗАНИМАЕТСЯ погрузо-разгрузочными работами.
A71: 6) Погрузо-разгрузочные работы на складе клиента оговариваются заранее! Стоимость услуги - 3,5руб,/кг,700руб/м3 Минимальная стоимость 500 р. (вес одного места
A72: не более 25 кг/0,2 м.куб, уровень первого этажа и не дальше 10 метров от автомобиля). Расчёт подъёма на этаж по лестнице осуществляется по
A73: формуле-вес/объём Х 3,5/700руб+вес/объём Х количество этажей
A74: 7) Стоимость не полного часа предоставления автомобиля под погрузку/разгрузку свыше установленного времени, рассчитывается как за целый час оказания услуг,
A75: согласно действующего тарифа (В нормативное время помимо погрузки/выгрузки входит оформление экспедитором документов)
A76: 8) При подаче машины с растентовкой или открытой машины , стоимость экспедирования оговаривается заранее.
... A79: Наши адреса:
A80: Санкт-Петербург: | I80: Самара:
A81: Партизанская ул., д.25 т.(812) 635-70-93, 635-70-94, 380-05-79 | I81: проезд Мальцева д.4 т. (846) 279-10-12
A82: 78@nevatk.ru | I82: 63@nevatk.ru
A84: Москва: | I84: Воронеж:
A85: 1) Московская обл., г. Мытищи, Олимпийский проспект, дом 40, корпус 3 | I85: ул. Димитрова, д.140А т. (473) 263-53-03, 263-53-23, 263-53-43
A86: 2) 1-й Котляковский переулок д.4 А т. (800) 777-19-35 | I86: 36@nevatk.ru
A87: 77@nevatk.ru
I88: Казань:
A89: Ростов-на-Дону: | I89: ул. 2-я Тихорецкая, д.39 (склад № 3) (800) 777-19-35
A90: Ростов-на-Дону, ул. Пескова, 3 т. (863) 299-80-92, 299-83-57 | I90: 116@nevatk.ru
A91: 61@nevatk.ru
A92: Волгоград: | I92: Нижний Новгород:
A93: Бетонная ул.. Д.9 т. (8442) 98-12-57, 98-12-67 | I93: ул. Кузбасская 15А т. (831) 429-06-31
A94: 34@nevatk.ru | I94: 52@nevatk.ru
A96: Краснодар: | I96: Саратов:
A97: улица Евдокии Бершанской, 359 т. (861) 210-91-46, 210-91-47 | I97: ул. Танкистов, 84 | K97: т. (902) 043-96-98, (965) 882-87-04
A98: 23@nevatk.ru | I98: 64@nevatk.ru

Sheet Ростов-на-Дону
A2: ЭКСПЕДИЦИЯ ПЛЮС | E2: Терминал: Ростовская область, Аксайский район,п. Верхнетемерницкий, ул. Темерницкая, д.1А (напротив Орбитальная, 3Е) | P2: nevatk.ru | R2: 8-800-777-19-35
B5: тарифы из г.Ростов-на-Дону | U5: онлайн калькулятор
B6: Минимаьная стоимость | C6: 1 - 100 кг | D6: 101 - 300 кг | E6: 301 - 500 кг | F6: 501 - 800 кг | G6: 801 - 1500 кг | H6: 1501 - 2000 кг | I6: 2001 - 3000 кг | J6: 3001 - 5000 кг | K6: от 5001 кг | L6: 0,1 - 0,4 м³ | M6: 0,5 - 1,2 м³ | N6: 1,3 - 2 м³ | O6: 2,1 - 3,2 м³ | P6: 3,3 - 6 м³ | Q6: 6,1 - 8 м³ | R6: 8,1 - 12 м³ | S6: 12 - 20 м³ | T6: от 20,1 м³
A8: Абакан | B8: 2500 | C8: 51.0625 | D8: 50.461538 | E8: 48.764706 | F8: 48.231884 | G8: 47.714286 | H8: 47.211268 | I8: 46.722222 | J8: 46.246575 | K8: 45.333333 | L8: =C8*280 -> 14297.5 | M8: =D8*280 -> 14129.231 | N8: =E8*280 -> 13654.118 | O8: =F8*280 -> 13504.928 | P8: =G8*280 -> 13360 | Q8: =H8*280 -> 13219.155 | R8: =I8*280 -> 13082.222 | S8: =J8*280 -> 12949.041 | T8: =K8*280 -> 12693.333
A9: Архангельск | B9: 2500 | C9: 41.5 | D9: 41 | E9: 40.5 | F9: 40.1 | G9: 40 | H9: 39.8 | I9: 39.5 | J9: 39.1 | K9: 38.5 | L9: =C9*280 -> 11620 | M9: =D9*280 -> 11480 | N9: =E9*280 -> 11340 | O9: =F9*280 -> 11228 | P9: =G9*280 -> 11200 | Q9: =H9*280 -> 11144 | R9: =I9*280 -> 11060 | S9: =J9*280 -> 10948 | T9: =K9*280 -> 10780
A10: Волгоград | B10: 850 | C10: 15 | D10: 14.5 | E10: 13.1 | F10: 12.7 | G10: 12.3 | H10: 12.1 | I10: 12 | J10: 12 | K10: 12 | L10: =C10*280 -> 4200 | M10: =D10*280 -> 4060 | N10: =E10*280 -> 3668 | O10: =F10*280 -> 3556 | P10: =G10*280 -> 3444 | Q10: =H10*280 -> 3388 | R10: =I10*280 -> 3360 | S10: =J10*280 -> 3360 | T10: =K10*280 -> 3360
A11: Воронеж | B11: 700 | C11: 16.049533 | D11: 16.014462 | E11: 15.677479 | F11: 15.623602 | G11: 15.4053 | H11: 15.177915 | I11: 14.886855 | J11: 14.632178 | K11: 14.256225 | L11: =C11*280 -> 4493.8691 | M11: =D11*280 -> 4484.0494 | N11: =E11*280 -> 4389.6941 | O11: =F11*280 -> 4374.6086 | P11: =G11*280 -> 4313.4841 | Q11: =H11*280 -> 4249.8162 | R11: =I11*280 -> 4168.3194 | S11: =J11*280 -> 4097.0097 | T11: =K11*280 -> 3991.743
A12: Екатеринбург | B12: 2500 | C12: 38.8 | D12: 38.5 | E12: 38 | F12: 37.9 | G12: 37.6 | H12: 37.5 | I12: 37.35 | J12: 37.1 | K12: 37 | L12: =C12*280 -> 10864 | M12: =D12*280 -> 10780 | N12: =E12*280 -> 10640 | O12: =F12*280 -> 10612 | P12: =G12*280 -> 10528 | Q12: =H12*280 -> 10500 | R12: =I12*280 -> 10458 | S12: =J12*280 -> 10388 | T12: =K12*280 -> 10360
A13: Иркутск | B13: 2500 | C13: 55.5 | D13: 55.02 | E13: 54.38 | F13: 52.6 | G13: 52.04 | H13: 51.5 | I13: 50.97 | J13: 50.46 | K13: 49.96 | L13: =C13*280 -> 15540 | M13: =D13*280 -> 15405.6 | N13: =E13*280 -> 15226.4 | O13: =F13*280 -> 14728 | P13: =G13*280 -> 14571.2 | Q13: =H13*280 -> 14420 | R13: =I13*280 -> 14271.6 | S13: =J13*280 -> 14128.8 | T13: =K13*280 -> 13988.8
A14: Казань | B14: 850 | C14: 23 | D14: 22.8 | E14: 22 | F14: 21.5 | G14: 21 | H14: 21.5 | I14: 21 | J14: 20 | K14: 20 | L14: =C14*280 -> 6440 | M14: =D14*280 -> 6384 | N14: =E14*280 -> 6160 | O14: =F14*280 -> 6020 | P14: =G14*280 -> 5880 | Q14: =H14*280 -> 6020 | R14: =I14*280 -> 5880 | S14: =J14*280 -> 5600 | T14: =K14*280 -> 5600
A15: Калининград (паром) | B15: 3000 | C15: 59.265625 | D15: 58.634615 | E15: 56.852941 | F15: 56.293478 | G15: 55.75 | H15: 55.221831 | I15: 54.708333 | J15: 54.208904 | K15: 53.25 | L15: =C15*280 -> 16594.375 | M15: =D15*280 -> 16417.692 | N15: =E15*280 -> 15918.824 | O15: =F15*280 -> 15762.174 | P15: =G15*280 -> 15610 | Q15: =H15*280 -> 15462.113 | R15: =I15*280 -> 15318.333 | S15: =J15*280 -> 15178.493 | T15: =K15*280 -> 14910
A16: Краснодар | B16: 600 | C16: 11 | D16: 11 | E16: 11 | F16: 11 | G16: 11 | H16: 11 | I16: 11 | J16: 11 | K16: 11 | L16: =C16*280 -> 3080 | M16: =D16*280 -> 3080 | N16: =E16*280 -> 3080 | O16: =F16*280 -> 3080 | P16: =G16*280 -> 3080 | Q16: =H16*280 -> 3080 | R16: =I16*280 -> 3080 | S16: =J16*280 -> 3080 | T16: =K16*280 -> 3080
A17: Красноярск | B17: 2500 | C17: 53 | D17: 52.5 | E17: 52 | F17: 51.5 | G17: 51 | H17: 50.5 | I17: 50.5 | J17: 50 | K17: 49.5 | L17: =C17*280 -> 14840 | M17: =D17*280 -> 14700 | N17: =E17*280 -> 14560 | O17: =F17*280 -> 14420 | P17: =G17*280 -> 14280 | Q17: =H17*280 -> 14140 | R17: =I17*280 -> 14140 | S17: =J17*280 -> 14000 | T17: =K17*280 -> 13860
A18: Кызыл | B18: 3000 | C18: 70.323182 | D18: 68.417105 | E18: 66.640254 | F18: 65.79625 | G18: 64.979918 | H18: 64.189919 | I18: 63.425 | J18: 62.683984 | K18: 60.593657 | L18: =C18*280 -> 19690.491 | M18: =D18*280 -> 19156.789 | N18: =E18*280 -> 18659.271 | O18: =F18*280 -> 18422.95 | P18: =G18*280 -> 18194.377 | Q18: =H18*280 -> 17973.177 | R18: =I18*280 -> 17759 | S18: =J18*280 -> 17551.516 | T18: =K18*280 -> 16966.224
A19: Магнитогорск | B19: 1000 | C19: 36.475 | D19: 36.329787 | E19: 36.18662 | F19: 35.90625 | G19: 35.633562 | H19: 35.368243 | I19: 35.11 | J19: 34.613636 | K19: 33.915625 | L19: =C19*280 -> 10213 | M19: =D19*280 -> 10172.34 | N19: =E19*280 -> 10132.254 | O19: =F19*280 -> 10053.75 | P19: =G19*280 -> 9977.3973 | Q19: =H19*280 -> 9903.1081 | R19: =I19*280 -> 9830.8 | S19: =J19*280 -> 9691.8182 | T19: =K19*280 -> 9496.375
... A27: Саратов | B27: 2500 | C27: 33.5 | D27: 33.5 | E27: 32.6 | F27: 32.4 | G27: 32.2 | H27: 32 | I27: 31.7 | J27: 31.5 | K27: 31.5 | L27: =C27*280 -> 9380 | M27: =D27*280 -> 9380 | N27: =E27*280 -> 9128 | O27: =F27*280 -> 9072 | P27: =G27*280 -> 9016 | Q27: =H27*280 -> 8960 | R27: =I27*280 -> 8876 | S27: =J27*280 -> 8820 | T27: =K27*280 -> 8820
A28: =Москва!A28 -> Тарифы с учетом доставки до адреса:
A29: Абинск | B29: 5000 | C29: 33 | D29: 33 | E29: 33 | F29: 33 | G29: 33 | H29: 33 | I29: 33 | J29: 33 | K29: 33 | L29: =C29*280 -> 9240 | M29: =D29*280 -> 9240 | N29: =E29*280 -> 9240 | O29: =F29*280 -> 9240 | P29: =G29*280 -> 9240 | Q29: =H29*280 -> 9240 | R29: =I29*280 -> 9240 | S29: =J29*280 -> 9240 | T29: =K29*280 -> 9240
A30: Адлер | B30: 6000 | C30: 39 | D30: 39 | E30: 39 | F30: 39 | G30: 39 | H30: 39 | I30: 39 | J30: 39 | K30: 39 | L30: =C30*280 -> 10920 | M30: =D30*280 -> 10920 | N30: =E30*280 -> 10920 | O30: =F30*280 -> 10920 | P30: =G30*280 -> 10920 | Q30: =H30*280 -> 10920 | R30: =I30*280 -> 10920 | S30: =J30*280 -> 10920 | T30: =K30*280 -> 10920
A31: Анапа | B31: 5000 | C31: 33 | D31: 33 | E31: 33 | F31: 33 | G31: 33 | H31: 33 | I31: 33 | J31: 33 | K31: 33 | L31: =C31*280 -> 9240 | M31: =D31*280 -> 9240 | N31: =E31*280 -> 9240 | O31: =F31*280 -> 9240 | P31: =G31*280 -> 9240 | Q31: =H31*280 -> 9240 | R31: =I31*280 -> 9240 | S31: =J31*280 -> 9240 | T31: =K31*280 -> 9240
A32: Геленджик | B32: 5000 | C32: 33 | D32: 33 | E32: 33 | F32: 33 | G32: 33 | H32: 33 | I32: 33 | J32: 33 | K32: 33 | L32: =C32*280 -> 9240 | M32: =D32*280 -> 9240 | N32: =E32*280 -> 9240 | O32: =F32*280 -> 9240 | P32: =G32*280 -> 9240 | Q32: =H32*280 -> 9240 | R32: =I32*280 -> 9240 | S32: =J32*280 -> 9240 | T32: =K32*280 -> 9240
A33: Красная поляна | B33: 7000 | C33: 54 | D33: 54 | E33: 54 | F33: 54 | G33: 54 | H33: 54 | I33: 54 | J33: 54 | K33: 54 | L33: =C33*280 -> 15120 | M33: =D33*280 -> 15120 | N33: =E33*280 -> 15120 | O33: =F33*280 -> 15120 | P33: =G33*280 -> 15120 | Q33: =H33*280 -> 15120 | R33: =I33*280 -> 15120 | S33: =J33*280 -> 15120 | T33: =K33*280 -> 15120
A34: Кропоткин | B34: 8000 | C34: 39 | D34: 39 | E34: 39 | F34: 39 | G34: 39 | H34: 39 | I34: 39 | J34: 39 | K34: 39 | L34: =C34*280 -> 10920 | M34: =D34*280 -> 10920 | N34: =E34*280 -> 10920 | O34: =F34*280 -> 10920 | P34: =G34*280 -> 10920 | Q34: =H34*280 -> 10920 | R34: =I34*280 -> 10920 | S34: =J34*280 -> 10920 | T34: =K34*280 -> 10920
A35: Крымск | B35: 5000 | C35: 33 | D35: 33 | E35: 33 | F35: 33 | G35: 33 | H35: 33 | I35: 33 | J35: 33 | K35: 33 | L35: =C35*280 -> 9240 | M35: =D35*280 -> 9240 | N35: =E35*280 -> 9240 | O35: =F35*280 -> 9240 | P35: =G35*280 -> 9240 | Q35: =H35*280 -> 9240 | R35: =I35*280 -> 9240 | S35: =J35*280 -> 9240 | T35: =K35*280 -> 9240
A36: Новороссийск | B36: 5000 | C36: 33 | D36: 33 | E36: 33 | F36: 33 | G36: 33 | H36: 33 | I36: 33 | J36: 33 | K36: 33 | L36: =C36*280 -> 9240 | M36: =D36*280 -> 9240 | N36: =E36*280 -> 9240 | O36: =F36*280 -> 9240 | P36: =G36*280 -> 9240 | Q36: =H36*280 -> 9240 | R36: =I36*280 -> 9240 | S36: =J36*280 -> 9240 | T36: =K36*280 -> 9240
A37: Сочи | B37: 5500 | C37: 37 | D37: 37 | E37: 37 | F37: 37 | G37: 37 | H37: 37 | I37: 37 | J37: 37 | K37: 37 | L37: =C37*280 -> 10360 | M37: =D37*280 -> 10360 | N37: =E37*280 -> 10360 | O37: =F37*280 -> 10360 | P37: =G37*280 -> 10360 | Q37: =H37*280 -> 10360 | R37: =I37*280 -> 10360 | S37: =J37*280 -> 10360 | T37: =K37*280 -> 10360
A38: =Москва!A38 -> Цены действительны с 10.09.2026 г.
A40: Дополнительные услуги
A41: - доставка корреспонденции (не более 3 кг) 250 руб.
A42: - мягкая упаковка - 500 руб. за 1м3 (минимальная ст-ть - 250 руб.)
A43: - обрешетка - 1900 руб. за 1 м3 (минимальная ст-ть 1000 руб.) При заказе услуги объем груза увеличивается на 30%, вес из расчета +35 кг за каждый 1 м3 (минимум 15 кг)
A44: - паллетирование - 750 руб. за 1м3 (минимальная ст-ть - 450 руб.)
A45: ИНФОРМАЦИЯ
A46: - при сдаче груза необходимо приложить накладную, счет-фактуру, сертификаты (по необх.), доверенность; указанные документы
A47: необходимы для транспортировки груза по территории России и получателю не передаются!
A48: - возможна любая форма оплаты;
A49: - Если вес одного места превышает 500 кг, 1000 кг, 2000 кг, тариф увеличивается на 25%, 30%, 50% соответственно.
A50: - Если длина одного из измерений превышает 3м, 5м, 6м, 9м, тариф увеличивается на 20%, 30%, 50%, 100% соответственно.
A51: - Бесплатное хранение перевозимого груза на складе составляет 3 дня.
A53: Стоимость доставки/забора груза по городу Ростов-на-Дону
A54: Вес (кг) | C54: 1 - 100 кг | D54: 101 - 200 кг | E54: 201 - 400 кг | F54: 401 - 600 кг | G54: 601 - 800 кг | H54: 801 - 1000 кг | I54: 1001 - 1200 кг | J54: 1201 - 1500 кг | K54: 1501 - 2000 кг | L54: 2001 - 3000 кг | M54: 3001 - 5000 кг | N54: 5001 - 7000 кг | O54: 7001 - 10000 кг
A55: Объем (м/куб) | C55: 0,1 - 0,4 м³ | D55: 0,5 - 0,8 м³ | E55: 0,5 - 2 м³ | F55: 2,1 - 3 м³ | G55: 3,1 - 4м³ | H55: 4,1 - 5 м³ | I55: 5,1 - 6 м³ | J55: 6,1 - 8 м³ | K55: 8,1 - 11 м³ | L55: 11,1 - 16 м³ | M55: 16,1 - 25 м³ | N55: 25,1 - 35 м³ | O55: 35,1 - 40 м³
A56: Стоимость доставки (руб) | C56: 900 | D56: 1100 | E56: 1320 | F56: 1540 | G56: 1650 | H56: 1980 | I56: 2200 | J56: 2640 | K56: 3850 | L56: 6600 | M56: 8800 | N56: 14300 | O56: 16500
A57: Стоимость а/м по области (руб/км) | C57: 32 | D57: 32 | E57: 32 | F57: 32 | G57: 32 | H57: 35 | I57: 35 | J57: 35 | K57: 45 | L57: 45 | M57: 55 | N57: 60 | O57: 60
A58: Максимальная длина груза (м) | C58: 2 | D58: 3 | E58: 3 | F58: 3 | G58: 3 | H58: 3 | I58: 3 | J58: 3 | K58: 4 | L58: 4 | M58: 5 | N58: 6 | O58: 6
A59: Максимальная ширина груза (м) | C59: 1.5 | D59: 1.5 | E59: 1.5 | F59: 1.5 | G59: 1.8 | H59: 1.8 | I59: 1.8 | J59: 1.8 | K59: 1.95 | L59: 1.95 | M59: 2 | N59: 2.1 | O59: 2.1
A60: Максимальная высота шруза (м) | C60: 1.5 | D60: 1.5 | E60: 1.5 | F60: 1.5 | G60: 1.7 | H60: 1.7 | I60: 1.7 | J60: 1.7 | K60: 1.7 | L60: 1.9 | M60: 2.1 | N60: 2.2 | O60: 2.2
A61: Количество евро-паллет 0,8х1,2 (шт) | C61: 1 | D61: 1 | E61: 2 | F61: 2 | G61: 3 | H61: 3 | I61: 4 | J61: 4 | K61: 6 | L61: 6 | M61: 6 | N61: 10 | O61: 12
A62: Стоимость простоя (руб/час) | C62: 1100 | D62: 1100 | E62: 1100 | F62: 1100 | G62: 1100 | H62: 1100 | I62: 1100 | J62: 1100 | K62: 2200 | L62: 2200 | M62: 2200 | N62: 3300 | O62: 3300
A63: Время погрузки/разгрузки,ч | C63: 0.5 | D63: 0.5 | E63: 0.5 | F63: 1 | G63: 1 | H63: 1 | I63: 1 | J63: 1 | K63: 1 | L63: 1 | M63: 1.5 | N63: 2 | O63: 2
A65: 1) Дополнительная услуга оказывается на основании заявки, которую необходимо заполнить на сайте nevatk.ru (заявки принятые с 09-00 до 16-30 выполняются
A66: на следующий день, после 16-30 через день)
A67: 2) Тарифы действительны при задней погрузке и доставке/получении груза в рабочее время, в четырехчасовой интервал, согласованный с отправителем/получателем иначе считается как подача машины ко времени - 1000 р.
A68: 3) При подаче машины в нерабочее время (с18-00 до 21-00 и с 7-00 до 9-00)-стандартный тариф + 2000 рублей. При подаче машины в ночное время(с 21-00 до 7-00) стоимость доставки договорная.
A69: 4) При выезде за черту города каждый километр пути туда/обратно оплачивается согласно тарифа .
A70: 5) Водитель-экспедитор НЕ ЗАНИМАЕТСЯ погрузо-разгрузочными работами.
A71: 6) Погрузо-разгрузочные работы на складе клиента оговариваются заранее! Стоимость услуги - 3,5руб,/кг,700руб/м3 Минимальная стоимость 500 р. (вес одного места
A72: не более 25 кг/0,2 м.куб, уровень первого этажа и не дальше 10 метров от автомобиля). Расчёт подъёма на этаж по лестнице осуществляется по
A73: формуле-вес/объём Х 3,5/700руб+вес/объём Х количество этажей
A74: 7) Стоимость не полного часа предоставления автомобиля под погрузку/разгрузку свыше установленного времени, рассчитывается как за целый час оказания услуг,
A75: согласно действующего тарифа (В нормативное время помимо погрузки/выгрузки входит оформление экспедитором документов)
A76: 8) При подаче машины с растентовкой или открытой машины , стоимость экспедирования оговаривается заранее.
... A79: Наши адреса:
A80: Санкт-Петербург: | I80: Самара:
A81: Партизанская ул., д.25 т.(812) 635-70-93, 635-70-94, 380-05-79 | I81: проезд Мальцева д.4 т. (846) 279-10-12
A82: 78@nevatk.ru | I82: 63@nevatk.ru
A84: Москва: | I84: Воронеж:
A85: 1) Московская обл., г. Мытищи, Олимпийский проспект, дом 40, корпус 3 | I85: ул. Димитрова, д.140А т. (473) 263-53-03, 263-53-23, 263-53-43
A86: 2) 1-й Котляковский переулок д.4 А т. (800) 777-19-35 | I86: 36@nevatk.ru
A87: 77@nevatk.ru
I88: Казань:
A89: Ростов-на-Дону: | I89: ул. 2-я Тихорецкая, д.39 (склад № 3) (800) 777-19-35
A90: Ростов-на-Дону, ул. Пескова, 3 т. (863) 299-80-92, 299-83-57 | I90: 116@nevatk.ru
A91: 61@nevatk.ru
A92: Волгоград: | I92: Нижний Новгород:
A93: Бетонная ул.. Д.9 т. (8442) 98-12-57, 98-12-67 | I93: ул. Кузбасская 15А т. (831) 429-06-31
A94: 34@nevatk.ru | I94: 52@nevatk.ru
A96: Краснодар: | I96: Саратов:
A97: улица Евдокии Бершанской, 359 т. (861) 210-91-46, 210-91-47 | I97: ул. Танкистов, 84 | K97: т. (902) 043-96-98, (965) 882-87-04
A98: 23@nevatk.ru | I98: 64@nevatk.ru

Sheet Саратов
A2: ЭКСПЕДИЦИЯ ПЛЮС | E2: Терминал: г.Саратов, ул. Танкистов 84 | L2: 8-800-777-19-35 | O2: nevatk.ru
B5: тарифы из г.Саратов | U5: онлайн калькулятор
B6: Минимаьная стоимость | C6: 1 - 100 кг | D6: 101 - 300 кг | E6: 301 - 500 кг | F6: 501 - 800 кг | G6: 801 - 1500 кг | H6: 1501 - 2000 кг | I6: 2001 - 3000 кг | J6: 3001 - 5000 кг | K6: от 5001 кг | L6: 0,1 - 0,4 м³ | M6: 0,5 - 1,2 м³ | N6: 1,3 - 2 м³ | O6: 2,1 - 3,2 м³ | P6: 3,3 - 6 м³ | Q6: 6,1 - 8 м³ | R6: 8,1 - 12 м³ | S6: 12 - 20 м³ | T6: от 20,1 м³
A8: Абакан | B8: 2500 | C8: 56.427 | D8: 54.987288 | E8: 51.501265 | F8: 50.37162 | G8: 49.61925 | H8: 48.519021 | I8: 47.674083 | J8: 47.20462 | K8: 46.30325 | L8: =C8*280 -> 15799.56 | M8: =D8*280 -> 15396.441 | N8: =E8*280 -> 14420.354 | O8: =F8*280 -> 14104.053 | P8: =G8*280 -> 13893.39 | Q8: =H8*280 -> 13585.326 | R8: =I8*280 -> 13348.743 | S8: =J8*280 -> 13217.294 | T8: =K8*280 -> 12964.91
A9: Архангельск | B9: 2500 | C9: 41.5 | D9: 41 | E9: 40.5 | F9: 40.1 | G9: 40 | H9: 39.8 | I9: 39.5 | J9: 39.1 | K9: 38.5 | L9: =C9*280 -> 11620 | M9: =D9*280 -> 11480 | N9: =E9*280 -> 11340 | O9: =F9*280 -> 11228 | P9: =G9*280 -> 11200 | Q9: =H9*280 -> 11144 | R9: =I9*280 -> 11060 | S9: =J9*280 -> 10948 | T9: =K9*280 -> 10780
A10: Воронеж | B10: 2500 | C10: 31.86 | D10: 31.5 | E10: 31 | F10: 30.92 | G10: 30.58 | H10: 30.29 | I10: 30.06 | J10: 29.92 | K10: 29.84 | L10: =C10*280 -> 8920.8 | M10: =D10*280 -> 8820 | N10: =E10*280 -> 8680 | O10: =F10*280 -> 8657.6 | P10: =G10*280 -> 8562.4 | Q10: =H10*280 -> 8481.2 | R10: =I10*280 -> 8416.8 | S10: =J10*280 -> 8377.6 | T10: =K10*280 -> 8355.2
A11: Екатеринбург | B11: 2500 | C11: 40.78125 | D11: 40.384615 | E11: 39.264706 | F11: 38.913043 | G11: 38.571429 | H11: 38.239437 | I11: 37.916667 | J11: 37.60274 | K11: 37 | L11: =C11*280 -> 11418.75 | M11: =D11*280 -> 11307.692 | N11: =E11*280 -> 10994.118 | O11: =F11*280 -> 10895.652 | P11: =G11*280 -> 10800 | Q11: =H11*280 -> 10707.042 | R11: =I11*280 -> 10616.667 | S11: =J11*280 -> 10528.767 | T11: =K11*280 -> 10360
A12: Иркутск | B12: 2500 | C12: 57.5 | D12: 57.02 | E12: 56.38 | F12: 54.6 | G12: 54.04 | H12: 53.5 | I12: 52.97 | J12: 52.46 | K12: 51.96 | L12: =C12*280 -> 16100 | M12: =D12*280 -> 15965.6 | N12: =E12*280 -> 15786.4 | O12: =F12*280 -> 15288 | P12: =G12*280 -> 15131.2 | Q12: =H12*280 -> 14980 | R12: =I12*280 -> 14831.6 | S12: =J12*280 -> 14688.8 | T12: =K12*280 -> 14548.8
A13: Казань | B13: 2500 | C13: 33.725102 | D13: 33.430397 | E13: 33.14923 | F13: 32.793362 | G13: 32.318873 | H13: 32.013844 | I13: 31.657976 | J13: 31.59166 | K13: 31.409334 | L13: =C13*280 -> 9443.0287 | M13: =D13*280 -> 9360.5113 | N13: =E13*280 -> 9281.7843 | O13: =F13*280 -> 9182.1415 | P13: =G13*280 -> 9049.2844 | Q13: =H13*280 -> 8963.8762 | R13: =I13*280 -> 8864.2334 | S13: =J13*280 -> 8845.6649 | T13: =K13*280 -> 8794.6136
A14: Калининград (паром) | B14: 3000 | C14: 61.265625 | D14: 60.634615 | E14: 58.852941 | F14: 58.293478 | G14: 57.75 | H14: 57.221831 | I14: 56.708333 | J14: 56.208904 | K14: 55.25 | L14: =C14*280 -> 17154.375 | M14: =D14*280 -> 16977.692 | N14: =E14*280 -> 16478.824 | O14: =F14*280 -> 16322.174 | P14: =G14*280 -> 16170 | Q14: =H14*280 -> 16022.113 | R14: =I14*280 -> 15878.333 | S14: =J14*280 -> 15738.493 | T14: =K14*280 -> 15470
A15: Краснодар | B15: 2500 | C15: 37.473 | D15: 37.11 | E15: 36.494 | F15: 35.944 | G15: 35.614 | H15: 35.284 | I15: 35.009 | J15: 34.613 | K15: 34.327 | L15: =C15*280 -> 10492.44 | M15: =D15*280 -> 10390.8 | N15: =E15*280 -> 10218.32 | O15: =F15*280 -> 10064.32 | P15: =G15*280 -> 9971.92 | Q15: =H15*280 -> 9879.52 | R15: =I15*280 -> 9802.52 | S15: =J15*280 -> 9691.64 | T15: =K15*280 -> 9611.56
A16: Красноярск | B16: 2500 | C16: 54 | D16: 53.5 | E16: 53 | F16: 52.5 | G16: 52 | H16: 51.5 | I16: 51.5 | J16: 51 | K16: 50.5 | L16: =C16*280 -> 15120 | M16: =D16*280 -> 14980 | N16: =E16*280 -> 14840 | O16: =F16*280 -> 14700 | P16: =G16*280 -> 14560 | Q16: =H16*280 -> 14420 | R16: =I16*280 -> 14420 | S16: =J16*280 -> 14280 | T16: =K16*280 -> 14140
A17: Кызыл | B17: 3000 | C17: 69.323182 | D17: 67.417105 | E17: 65.640254 | F17: 64.79625 | G17: 63.979918 | H17: 63.189919 | I17: 62.425 | J17: 61.683984 | K17: 59.593657 | L17: =C17*280 -> 19410.491 | M17: =D17*280 -> 18876.789 | N17: =E17*280 -> 18379.271 | O17: =F17*280 -> 18142.95 | P17: =G17*280 -> 17914.377 | Q17: =H17*280 -> 17693.177 | R17: =I17*280 -> 17479 | S17: =J17*280 -> 17271.516 | T17: =K17*280 -> 16686.224
A18: Магнитогорск | B18: 2500 | C18: 35.475 | D18: 35.329787 | E18: 35.18662 | F18: 34.90625 | G18: 34.633562 | H18: 34.368243 | I18: 34.11 | J18: 33.613636 | K18: 32.915625 | L18: =C18*280 -> 9933 | M18: =D18*280 -> 9892.3404 | N18: =E18*280 -> 9852.2535 | O18: =F18*280 -> 9773.75 | P18: =G18*280 -> 9697.3973 | Q18: =H18*280 -> 9623.1081 | R18: =I18*280 -> 9550.8 | S18: =J18*280 -> 9411.8182 | T18: =K18*280 -> 9216.375
A19: Москва | B19: 2500 | C19: 25 | D19: 24.7 | E19: 24.5 | F19: 24 | G19: 23.5 | H19: 23.3 | I19: 23 | J19: 22.8 | K19: 22.8 | L19: =C19*280 -> 7000 | M19: =D19*280 -> 6916 | N19: =E19*280 -> 6860 | O19: =F19*280 -> 6720 | P19: =G19*280 -> 6580 | Q19: =H19*280 -> 6524 | R19: =I19*280 -> 6440 | S19: =J19*280 -> 6384 | T19: =K19*280 -> 6384
... A26: Санкт-Петербург | B26: 2500 | C26: 36 | D26: 35.7 | E26: 35.5 | F26: 35 | G26: 34.5 | H26: 34.3 | I26: 34 | J26: 33.8 | K26: 33.8 | L26: =C26*280 -> 10080 | M26: =D26*280 -> 9996 | N26: =E26*280 -> 9940 | O26: =F26*280 -> 9800 | P26: =G26*280 -> 9660 | Q26: =H26*280 -> 9604 | R26: =I26*280 -> 9520 | S26: =J26*280 -> 9464 | T26: =K26*280 -> 9464
A27: =Москва!A28 -> Тарифы с учетом доставки до адреса:
A28: Абинск | B28: 5000 | C28: 61.473 | D28: 61.11 | E28: 60.494 | F28: 59.944 | G28: 59.614 | H28: 59.284 | I28: 59.009 | J28: 58.613 | K28: 58.327 | L28: =C28*280 -> 17212.44 | M28: =D28*280 -> 17110.8 | N28: =E28*280 -> 16938.32 | O28: =F28*280 -> 16784.32 | P28: =G28*280 -> 16691.92 | Q28: =H28*280 -> 16599.52 | R28: =I28*280 -> 16522.52 | S28: =J28*280 -> 16411.64 | T28: =K28*280 -> 16331.56
A29: Адлер | B29: 6000 | C29: 61.473 | D29: 61.11 | E29: 60.494 | F29: 59.944 | G29: 59.614 | H29: 59.284 | I29: 59.009 | J29: 58.613 | K29: 58.327 | L29: =C29*280 -> 17212.44 | M29: =D29*280 -> 17110.8 | N29: =E29*280 -> 16938.32 | O29: =F29*280 -> 16784.32 | P29: =G29*280 -> 16691.92 | Q29: =H29*280 -> 16599.52 | R29: =I29*280 -> 16522.52 | S29: =J29*280 -> 16411.64 | T29: =K29*280 -> 16331.56
A30: Анапа | B30: 5000 | C30: 67.473 | D30: 67.11 | E30: 66.494 | F30: 65.944 | G30: 65.614 | H30: 65.284 | I30: 65.009 | J30: 64.613 | K30: 64.327 | L30: =C30*280 -> 18892.44 | M30: =D30*280 -> 18790.8 | N30: =E30*280 -> 18618.32 | O30: =F30*280 -> 18464.32 | P30: =G30*280 -> 18371.92 | Q30: =H30*280 -> 18279.52 | R30: =I30*280 -> 18202.52 | S30: =J30*280 -> 18091.64 | T30: =K30*280 -> 18011.56
A31: Геленджик | B31: 5000 | C31: 61.473 | D31: 61.11 | E31: 60.494 | F31: 59.944 | G31: 59.614 | H31: 59.284 | I31: 59.009 | J31: 58.613 | K31: 58.327 | L31: =C31*280 -> 17212.44 | M31: =D31*280 -> 17110.8 | N31: =E31*280 -> 16938.32 | O31: =F31*280 -> 16784.32 | P31: =G31*280 -> 16691.92 | Q31: =H31*280 -> 16599.52 | R31: =I31*280 -> 16522.52 | S31: =J31*280 -> 16411.64 | T31: =K31*280 -> 16331.56
A32: Красная поляна | B32: 7000 | C32: 61.473 | D32: 61.11 | E32: 60.494 | F32: 59.944 | G32: 59.614 | H32: 59.284 | I32: 59.009 | J32: 58.613 | K32: 58.327 | L32: =C32*280 -> 17212.44 | M32: =D32*280 -> 17110.8 | N32: =E32*280 -> 16938.32 | O32: =F32*280 -> 16784.32 | P32: =G32*280 -> 16691.92 | Q32: =H32*280 -> 16599.52 | R32: =I32*280 -> 16522.52 | S32: =J32*280 -> 16411.64 | T32: =K32*280 -> 16331.56
A33: Кропоткин | B33: 8000 | C33: 82.473 | D33: 82.11 | E33: 81.494 | F33: 80.944 | G33: 80.614 | H33: 80.284 | I33: 80.009 | J33: 79.613 | K33: 79.327 | L33: =C33*280 -> 23092.44 | M33: =D33*280 -> 22990.8 | N33: =E33*280 -> 22818.32 | O33: =F33*280 -> 22664.32 | P33: =G33*280 -> 22571.92 | Q33: =H33*280 -> 22479.52 | R33: =I33*280 -> 22402.52 | S33: =J33*280 -> 22291.64 | T33: =K33*280 -> 22211.56
A34: Крымск | B34: 5000 | C34: 67.473 | D34: 67.11 | E34: 66.494 | F34: 65.944 | G34: 65.614 | H34: 65.284 | I34: 65.009 | J34: 64.613 | K34: 64.327 | L34: =C34*280 -> 18892.44 | M34: =D34*280 -> 18790.8 | N34: =E34*280 -> 18618.32 | O34: =F34*280 -> 18464.32 | P34: =G34*280 -> 18371.92 | Q34: =H34*280 -> 18279.52 | R34: =I34*280 -> 18202.52 | S34: =J34*280 -> 18091.64 | T34: =K34*280 -> 18011.56
A35: Новороссийск | B35: 5000 | C35: 61.473 | D35: 61.11 | E35: 60.494 | F35: 59.944 | G35: 59.614 | H35: 59.284 | I35: 59.009 | J35: 58.613 | K35: 58.327 | L35: =C35*280 -> 17212.44 | M35: =D35*280 -> 17110.8 | N35: =E35*280 -> 16938.32 | O35: =F35*280 -> 16784.32 | P35: =G35*280 -> 16691.92 | Q35: =H35*280 -> 16599.52 | R35: =I35*280 -> 16522.52 | S35: =J35*280 -> 16411.64 | T35: =K35*280 -> 16331.56
A36: Сочи | B36: 5500 | C36: 61.473 | D36: 61.11 | E36: 60.494 | F36: 59.944 | G36: 59.614 | H36: 59.284 | I36: 59.009 | J36: 58.613 | K36: 58.327 | L36: =C36*280 -> 17212.44 | M36: =D36*280 -> 17110.8 | N36: =E36*280 -> 16938.32 | O36: =F36*280 -> 16784.32 | P36: =G36*280 -> 16691.92 | Q36: =H36*280 -> 16599.52 | R36: =I36*280 -> 16522.52 | S36: =J36*280 -> 16411.64 | T36: =K36*280 -> 16331.56
A37: =Москва!A38 -> Цены действительны с 10.09.2026 г.
A39: Дополнительные услуги
A40: - доставка корреспонденции (не более 3 кг) 250 руб.
A41: - мягкая упаковка - 500 руб. за 1м3 (минимальная ст-ть - 250 руб.)
A42: - обрешетка - 1900 руб. за 1 м3 (минимальная ст-ть 1000 руб.) При заказе услуги объем груза увеличивается на 30%, вес из расчета +35 кг за каждый 1 м3 (минимум 15 кг)
A43: - паллетирование - 750 руб. за 1м3 (минимальная ст-ть - 450 руб.)
A44: ИНФОРМАЦИЯ
A45: - при сдаче груза необходимо приложить накладную, счет-фактуру, сертификаты (по необх.), доверенность; указанные документы
A46: необходимы для транспортировки груза по территории России и получателю не передаются!
A47: - возможна любая форма оплаты;
A48: - Если вес одного места превышает 500 кг, 1000 кг, 2000 кг, тариф увеличивается на 25%, 30%, 50% соответственно.
A49: - Если длина одного из измерений превышает 3м, 5м, 6м, 9м, тариф увеличивается на 20%, 30%, 50%, 100% соответственно.
A50: - Бесплатное хранение перевозимого груза на складе составляет 3 дня.
A53: Стоимость доставки/забора груза по городу Саратов
A54: Вес (кг) | C54: 1 - 100 кг | D54: 101 - 200 кг | E54: 201 - 400 кг | F54: 401 - 600 кг | G54: 601 - 800 кг | H54: 801 - 1000 кг | I54: 1001 - 1200 кг | J54: 1201 - 1500 кг | K54: 1501 - 2000 кг | L54: 2001 - 3000 кг | M54: 3001 - 5000 кг | N54: 5001 - 7000 кг | O54: 7001 - 10000 кг
A55: Объем (м/куб) | C55: 0,1 - 0,4 м³ | D55: 0,5 - 0,8 м³ | E55: 0,5 - 2 м³ | F55: 2,1 - 3 м³ | G55: 3,1 - 4м³ | H55: 4,1 - 5 м³ | I55: 5,1 - 6 м³ | J55: 6,1 - 8 м³ | K55: 8,1 - 11 м³ | L55: 11,1 - 16 м³ | M55: 16,1 - 25 м³ | N55: 25,1 - 35 м³ | O55: 35,1 - 40 м³
A56: Стоимость доставки (руб) | C56: 900 | D56: 1100 | E56: 1320 | F56: 1540 | G56: 1650 | H56: 1980 | I56: 2200 | J56: 2640 | K56: 3850 | L56: 6600 | M56: 8800 | N56: 14300 | O56: 16500
A57: Стоимость а/м по области (руб/км) | C57: 30 | D57: 30 | E57: 30 | F57: 30 | G57: 30 | H57: 33 | I57: 33 | J57: 33 | K57: 38 | L57: 38 | M57: 55 | N57: 60 | O57: 60
A58: Максимальная длина груза (м) | C58: 2 | D58: 3 | E58: 3 | F58: 3 | G58: 3 | H58: 3 | I58: 3 | J58: 3 | K58: 4 | L58: 4 | M58: 5 | N58: 6 | O58: 6
A59: Максимальная ширина груза (м) | C59: 1.5 | D59: 1.5 | E59: 1.5 | F59: 1.5 | G59: 1.8 | H59: 1.8 | I59: 1.8 | J59: 1.8 | K59: 1.95 | L59: 1.95 | M59: 2 | N59: 2.1 | O59: 2.1
A60: Максимальная высота шруза (м) | C60: 1.5 | D60: 1.5 | E60: 1.5 | F60: 1.5 | G60: 1.7 | H60: 1.7 | I60: 1.7 | J60: 1.7 | K60: 1.7 | L60: 1.9 | M60: 2.1 | N60: 2.2 | O60: 2.2
A61: Количество евро-паллет 0,8х1,2 (шт) | C61: 1 | D61: 1 | E61: 2 | F61: 2 | G61: 3 | H61: 3 | I61: 4 | J61: 4 | K61: 6 | L61: 6 | M61: 6 | N61: 10 | O61: 12
A62: Стоимость простоя (руб/час) | C62: 1100 | D62: 1100 | E62: 1100 | F62: 1100 | G62: 1100 | H62: 1100 | I62: 1100 | J62: 1100 | K62: 2200 | L62: 2200 | M62: 2200 | N62: 3300 | O62: 3300
A63: Время погрузки/разгрузки,ч | C63: 0.5 | D63: 0.75 | E63: 0.75 | F63: 0.75 | G63: 0.75 | H63: 0.75 | I63: 0.75 | J63: 0.75 | K63: 1.5 | L63: 1.5 | M63: 1.5 | N63: 1.5 | O63: 2
A65: 1) Дополнительная услуга оказывается на основании заявки, которую необходимо заполнить на сайте nevatk.ru (заявки принятые с 09-00 до 16-30 выполняются
A66: на следующий день, после 16-30 через день)
A67: 2) Тарифы действительны при задней погрузке и доставке/получении груза в рабочее время, в четырехчасовой интервал, согласованный с отправителем/получателем иначе считается как подача машины ко времени - 1000 р.
A68: 3) При подаче машины в нерабочее время (с18-00 до 21-00 и с 7-00 до 9-00)-стандартный тариф + 2000 рублей. При подаче машины в ночное время(с 21-00 до 7-00) стоимость доставки договорная.
A69: 4) При выезде за черту города каждый километр пути туда/обратно оплачивается согласно тарифа .
A70: 5) Водитель-экспедитор НЕ ЗАНИМАЕТСЯ погрузо-разгрузочными работами.
A71: 6) Погрузо-разгрузочные работы на складе клиента оговариваются заранее! Стоимость услуги - 3,5руб,/кг,700руб/м3 Минимальная стоимость 500 р. (вес одного места
A72: не более 25 кг/0,2 м.куб, уровень первого этажа и не дальше 10 метров от автомобиля). Расчёт подъёма на этаж по лестнице осуществляется по
A73: формуле-вес/объём Х 3,5/700руб+вес/объём Х количество этажей
A74: 7) Стоимость не полного часа предоставления автомобиля под погрузку/разгрузку свыше установленного времени, рассчитывается как за целый час оказания услуг,
A75: согласно действующего тарифа (В нормативное время помимо погрузки/выгрузки входит оформление экспедитором документов)
A76: 8) При подаче машины с растентовкой или открытой машины , стоимость экспедирования оговаривается заранее.
... A79: Наши адреса:
A80: Санкт-Петербург: | I80: Самара:
A81: Партизанская ул., д.25 т.(812) 635-70-93, 635-70-94, 380-05-79 | I81: проезд Мальцева д.4 т. (846) 279-10-12
A82: 78@nevatk.ru | I82: 63@nevatk.ru
A84: Москва: | I84: Воронеж:
A85: 1) Московская обл., г. Мытищи, Олимпийский проспект, дом 40, корпус 3 | I85: ул. Димитрова, д.140А т. (473) 263-53-03, 263-53-23, 263-53-43
A86: 2) 1-й Котляковский переулок д.4 А т. (800) 777-19-35 | I86: 36@nevatk.ru
A87: 77@nevatk.ru
I88: Казань:
A89: Ростов-на-Дону: | I89: ул. 2-я Тихорецкая, д.39 (склад № 3) (800) 777-19-35
A90: Ростов-на-Дону, ул. Пескова, 3 т. (863) 299-80-92, 299-83-57 | I90: 116@nevatk.ru
A91: 61@nevatk.ru
A92: Волгоград: | I92: Нижний Новгород:
A93: Бетонная ул.. Д.9 т. (8442) 98-12-57, 98-12-67 | I93: ул. Кузбасская 15А т. (831) 429-06-31
A94: 34@nevatk.ru | I94: 52@nevatk.ru
A96: Краснодар: | I96: Саратов:
A97: улица Евдокии Бершанской, 359 т. (861) 210-91-46, 210-91-47 | I97: ул. Танкистов, 84 | K97: т. (902) 043-96-98, (965) 882-87-04
A98: 23@nevatk.ru | I98: 64@nevatk.ru

Sheet Самара
A2: ЭКСПЕДИЦИЯ ПЛЮС | E2: Терминал: г.Самара проезд Мальцева д.4 | L2: 8-800-777-19-35 | O2: nevatk.ru
A5: Стоимость доставки/забора груза по городу Самара
A6: Вес (кг) | C6: 1 - 100 кг | D6: 101 - 200 кг | E6: 201 - 400 кг | F6: 401 - 600 кг | G6: 601 - 800 кг | H6: 801 - 1000 кг | I6: 1001 - 1200 кг | J6: 1201 - 1500 кг | K6: 1501 - 2000 кг | L6: 2001 - 3000 кг | M6: 3001 - 5000 кг | N6: 5001 - 7000 кг | O6: 7001 - 10000 кг
A7: Объем (м/куб) | C7: 0,1 - 0,4 м³ | D7: 0,5 - 0,8 м³ | E7: 0,5 - 2 м³ | F7: 2,1 - 3 м³ | G7: 3,1 - 4м³ | H7: 4,1 - 5 м³ | I7: 5,1 - 6 м³ | J7: 6,1 - 8 м³ | K7: 8,1 - 11 м³ | L7: 11,1 - 16 м³ | M7: 16,1 - 25 м³ | N7: 25,1 - 35 м³ | O7: 35,1 - 40 м³
A8: Стоимость доставки (руб) | C8: 950 | D8: 1045 | E8: 1210 | F8: 1430 | G8: 1650 | H8: 1980 | I8: 2200 | J8: 2530 | K8: 3630 | L8: 5060 | M8: 7150 | N8: 13200 | O8: 15400
A9: Стоимость а/м по области (руб/км) | C9: 33 | D9: 33 | E9: 33 | F9: 33 | G9: 33 | H9: 35 | I9: 35 | J9: 35 | K9: 41 | L9: 41 | M9: 55 | N9: 60 | O9: 60
A10: Максимальная длина груза (м) | C10: 2 | D10: 3 | E10: 3 | F10: 3 | G10: 3 | H10: 3 | I10: 3 | J10: 3 | K10: 4 | L10: 4 | M10: 5 | N10: 6 | O10: 6
A11: Максимальная ширина груза (м) | C11: 1.5 | D11: 1.5 | E11: 1.5 | F11: 1.5 | G11: 1.8 | H11: 1.8 | I11: 1.8 | J11: 1.8 | K11: 1.95 | L11: 1.95 | M11: 2 | N11: 2.1 | O11: 2.1
A12: Максимальная высота шруза (м) | C12: 1.5 | D12: 1.5 | E12: 1.5 | F12: 1.5 | G12: 1.7 | H12: 1.7 | I12: 1.7 | J12: 1.7 | K12: 1.7 | L12: 1.9 | M12: 2.1 | N12: 2.2 | O12: 2.2
A13: Количество евро-паллет 0,8х1,2 (шт) | C13: 1 | D13: 1 | E13: 2 | F13: 2 | G13: 3 | H13: 3 | I13: 4 | J13: 4 | K13: 6 | L13: 6 | M13: 6 | N13: 10 | O13: 12
A14: Стоимость простоя (руб/час) | C14: 1100 | D14: 1100 | E14: 1100 | F14: 1100 | G14: 1100 | H14: 1100 | I14: 1100 | J14: 1100 | K14: 2200 | L14: 2200 | M14: 2200 | N14: 3300 | O14: 3300
A15: Время погрузки/разгрузки,ч | C15: 0.5 | D15: 0.5 | E15: 0.5 | F15: 1 | G15: 1 | H15: 1 | I15: 1 | J15: 1 | K15: 1 | L15: 1 | M15: 1.5 | N15: 2 | O15: 2
A17: 1) Дополнительная услуга оказывается на основании заявки, которую необходимо заполнить на сайте nevatk.ru (заявки принятые с 09-00 до 16-30 выполняются
A18: на следующий день, после 16-30 через день)
A19: 2) Тарифы действительны при задней погрузке и доставке/получении груза в рабочее время, в четырехчасовой интервал, согласованный с отправителем/получателем иначе считается как подача машины ко времени - 1000 р.
A20: 3) При подаче машины в нерабочее время (с18-00 до 21-00 и с 7-00 до 9-00)-стандартный тариф + 2000 рублей. При подаче машины в ночное время(с 21-00 до 7-00) стоимость доставки договорная.
A21: 4) При выезде за черту города каждый километр пути туда/обратно оплачивается согласно тарифа .
A22: 5) Водитель-экспедитор НЕ ЗАНИМАЕТСЯ погрузо-разгрузочными работами.
A23: 6) Погрузо-разгрузочные работы на складе клиента оговариваются заранее! Стоимость услуги - 3,5руб,/кг,700руб/м3 Минимальная стоимость 500 р. (вес одного места
A24: не более 25 кг/0,2 м.куб, уровень первого этажа и не дальше 10 метров от автомобиля). Расчёт подъёма на этаж по лестнице осуществляется по
A25: формуле-вес/объём Х 3,5/700руб+вес/объём Х количество этажей
A26: 7) Стоимость не полного часа предоставления автомобиля под погрузку/разгрузку свыше установленного времени, рассчитывается как за целый час оказания услуг,
A27: согласно действующего тарифа (В нормативное время помимо погрузки/выгрузки входит оформление экспедитором документов)
A28: 8) При подаче машины с растентовкой или открытой машины , стоимость экспедирования оговаривается заранее.
... A31: Наши адреса:
A32: Санкт-Петербург: | I32: Самара:
A33: Партизанская ул., д.25 т.(812) 635-70-93, 635-70-94, 380-05-79 | I33: проезд Мальцева д.4 т. (846) 279-10-12
A34: 78@nevatk.ru | I34: 63@nevatk.ru
A36: Москва: | I36: Воронеж:
A37: 1) Московская обл., г. Мытищи, Олимпийский проспект, дом 40, корпус 3 | I37: ул. Димитрова, д.140А т. (473) 263-53-03, 263-53-23, 263-53-43
A38: 2) 1-й Котляковский переулок д.4 А т. (800) 777-19-35 | I38: 36@nevatk.ru
A39: 77@nevatk.ru
I40: Казань:
A41: Ростов-на-Дону: | I41: ул. 2-я Тихорецкая, д.39 (склад № 3) (800) 777-19-35
A42: Ростов-на-Дону, ул. Пескова, 3 т. (863) 299-80-92, 299-83-57 | I42: 116@nevatk.ru
A43: 61@nevatk.ru
A44: Волгоград: | I44: Нижний Новгород:
A45: Бетонная ул.. Д.9 т. (8442) 98-12-57, 98-12-67 | I45: ул. Кузбасская 15А т. (831) 429-06-31
A46: 34@nevatk.ru | I46: 52@nevatk.ru
A48: Краснодар: | I48: Саратов:
A49: улица Евдокии Бершанской, 359 т. (861) 210-91-46, 210-91-47 | I49: ул. Танкистов, 84 | K49: т. (902) 043-96-98, (965) 882-87-04
A50: 23@nevatk.ru | I50: 64@nevatk.ru

Sheet Волгоград
A2: ЭКСПЕДИЦИЯ ПЛЮС | E2: Терминал: г.Волгоград ул. Бетонная, д. 9 | L2: 8-800-777-19-35 | O2: nevatk.ru
A5: Стоимость доставки/забора груза по городу Волгоград
A6: Вес (кг) | C6: 1 - 100 кг | D6: 101 - 200 кг | E6: 201 - 400 кг | F6: 401 - 600 кг | G6: 601 - 800 кг | H6: 801 - 1000 кг | I6: 1001 - 1200 кг | J6: 1201 - 1500 кг | K6: 1501 - 2000 кг | L6: 2001 - 3000 кг | M6: 3001 - 5000 кг | N6: 5001 - 7000 кг | O6: 7001 - 10000 кг
A7: Объем (м/куб) | C7: 0,1 - 0,4 м³ | D7: 0,5 - 0,8 м³ | E7: 0,5 - 2 м³ | F7: 2,1 - 3 м³ | G7: 3,1 - 4м³ | H7: 4,1 - 5 м³ | I7: 5,1 - 6 м³ | J7: 6,1 - 8 м³ | K7: 8,1 - 11 м³ | L7: 11,1 - 16 м³ | M7: 16,1 - 25 м³ | N7: 25,1 - 35 м³ | O7: 35,1 - 40 м³
A8: Стоимость доставки (руб) | C8: 950 | D8: 1100 | E8: 1320 | F8: 1540 | G8: 1870 | H8: 2200 | I8: 2420 | J8: 3080 | K8: 3850 | L8: 5500 | M8: 7700 | N8: 13200 | O8: 15400
A9: Стоимость а/м по области (руб/км) | C9: 33 | D9: 33 | E9: 33 | F9: 33 | G9: 33 | H9: 35 | I9: 35 | J9: 35 | K9: 41 | L9: 41 | M9: 55 | N9: 60 | O9: 60
A10: Максимальная длина груза (м) | C10: 2 | D10: 3 | E10: 3 | F10: 3 | G10: 3 | H10: 3 | I10: 3 | J10: 3 | K10: 4 | L10: 4 | M10: 5 | N10: 6 | O10: 6
A11: Максимальная ширина груза (м) | C11: 1.5 | D11: 1.5 | E11: 1.5 | F11: 1.5 | G11: 1.8 | H11: 1.8 | I11: 1.8 | J11: 1.8 | K11: 1.95 | L11: 1.95 | M11: 2 | N11: 2.1 | O11: 2.1
A12: Максимальная высота шруза (м) | C12: 1.5 | D12: 1.5 | E12: 1.5 | F12: 1.5 | G12: 1.7 | H12: 1.7 | I12: 1.7 | J12: 1.7 | K12: 1.7 | L12: 1.9 | M12: 2.1 | N12: 2.2 | O12: 2.2
A13: Количество евро-паллет 0,8х1,2 (шт) | C13: 1 | D13: 1 | E13: 2 | F13: 2 | G13: 3 | H13: 3 | I13: 4 | J13: 4 | K13: 6 | L13: 6 | M13: 6 | N13: 10 | O13: 12
A14: Стоимость простоя (руб/час) | C14: 1100 | D14: 1100 | E14: 1100 | F14: 1100 | G14: 1100 | H14: 1100 | I14: 1100 | J14: 1100 | K14: 2200 | L14: 2200 | M14: 2200 | N14: 3300 | O14: 3300
A15: Время погрузки/разгрузки,ч | C15: 0.5 | D15: 0.5 | E15: 0.5 | F15: 0.5 | G15: 0.75 | H15: 0.75 | I15: 1 | J15: 1 | K15: 1 | L15: 1 | M15: 1.5 | N15: 2 | O15: 2
A16: г.Волжский, (руб) | C16: 1650 | D16: 1760 | E16: 1980 | F16: 2200 | G16: 2530 | H16: 2750 | I16: 3300 | J16: 3850 | K16: 4840 | L16: 6050 | M16: 8250 | N16: 14300 | O16: 16500
A17: г.Волгоград, Красноармейский район, (руб) | C17: 1870 | D17: 2090 | E17: 2310 | F17: 2640 | G17: 2750 | H17: 2970 | I17: 3520 | J17: 4400 | K17: 5280 | L17: 6600 | M17: 9350 | N17: 15400 | O17: 17600
A19: 1) Дополнительная услуга оказывается на основании заявки, которую необходимо заполнить на сайте nevatk.ru (заявки принятые с 09-00 до 16-30 выполняются
A20: на следующий день, после 16-30 через день)
A21: 2) Тарифы действительны при задней погрузке и доставке/получении груза в рабочее время, в четырехчасовой интервал, согласованный с отправителем/получателем иначе считается как подача машины ко времени - 1000 р.
A22: 3) При подаче машины в нерабочее время (с18-00 до 21-00 и с 7-00 до 9-00)-стандартный тариф + 2000 рублей. При подаче машины в ночное время(с 21-00 до 7-00) стоимость доставки договорная.
A23: 4) При выезде за черту города каждый километр пути туда/обратно оплачивается согласно тарифа .
A24: 5) Водитель-экспедитор НЕ ЗАНИМАЕТСЯ погрузо-разгрузочными работами.
A25: 6) Погрузо-разгрузочные работы на складе клиента оговариваются заранее! Стоимость услуги - 3,5руб,/кг,700руб/м3 Минимальная стоимость 500 р. (вес одного места
A26: не более 25 кг/0,2 м.куб, уровень первого этажа и не дальше 10 метров от автомобиля). Расчёт подъёма на этаж по лестнице осуществляется по
A27: формуле-вес/объём Х 3,5/700руб+вес/объём Х количество этажей
A28: 7) Стоимость не полного часа предоставления автомобиля под погрузку/разгрузку свыше установленного времени, рассчитывается как за целый час оказания услуг,
A29: согласно действующего тарифа (В нормативное время помимо погрузки/выгрузки входит оформление экспедитором документов)
A30: 8) При подаче машины с растентовкой или открытой машины , стоимость экспедирования оговаривается заранее.
... A33: Наши адреса:
A34: Санкт-Петербург: | I34: Самара:
A35: Партизанская ул., д.25 т.(812) 635-70-93, 635-70-94, 380-05-79 | I35: проезд Мальцева д.4 т. (846) 279-10-12
A36: 78@nevatk.ru | I36: 63@nevatk.ru
A38: Москва: | I38: Воронеж:
A39: 1) Московская обл., г. Мытищи, Олимпийский проспект, дом 40, корпус 3 | I39: ул. Димитрова, д.140А т. (473) 263-53-03, 263-53-23, 263-53-43
A40: 2) 1-й Котляковский переулок д.4 А т. (800) 777-19-35 | I40: 36@nevatk.ru
A41: 77@nevatk.ru
I42: Казань:
A43: Ростов-на-Дону: | I43: ул. 2-я Тихорецкая, д.39 (склад № 3) (800) 777-19-35
A44: Ростов-на-Дону, ул. Пескова, 3 т. (863) 299-80-92, 299-83-57 | I44: 116@nevatk.ru
A45: 61@nevatk.ru
A46: Волгоград: | I46: Нижний Новгород:
A47: Бетонная ул.. Д.9 т. (8442) 98-12-57, 98-12-67 | I47: ул. Кузбасская 15А т. (831) 429-06-31
A48: 34@nevatk.ru | I48: 52@nevatk.ru
A50: Краснодар: | I50: Саратов:
A51: улица Евдокии Бершанской, 359 т. (861) 210-91-46, 210-91-47 | I51: ул. Танкистов, 84 | K51: т. (902) 043-96-98, (965) 882-87-04
A52: 23@nevatk.ru | I52: 64@nevatk.ru
